BEGIN:VCALENDAR
VERSION:2.0
PRODID:-//Politische Bildung für Sachsen - ECPv6.15.20//NONSGML v1.0//EN
CALSCALE:GREGORIAN
METHOD:PUBLISH
X-WR-CALNAME:Politische Bildung für Sachsen
X-ORIGINAL-URL:https://politische-bildung-sachsen.de
X-WR-CALDESC:Veranstaltungen für Politische Bildung für Sachsen
REFRESH-INTERVAL;VALUE=DURATION:PT1H
X-Robots-Tag:noindex
X-PUBLISHED-TTL:PT1H
BEGIN:VTIMEZONE
TZID:Europe/Berlin
BEGIN:DAYLIGHT
TZOFFSETFROM:+0100
TZOFFSETTO:+0200
TZNAME:CEST
DTSTART:20250330T010000
END:DAYLIGHT
BEGIN:STANDARD
TZOFFSETFROM:+0200
TZOFFSETTO:+0100
TZNAME:CET
DTSTART:20251026T010000
END:STANDARD
BEGIN:DAYLIGHT
TZOFFSETFROM:+0100
TZOFFSETTO:+0200
TZNAME:CEST
DTSTART:20260329T010000
END:DAYLIGHT
BEGIN:STANDARD
TZOFFSETFROM:+0200
TZOFFSETTO:+0100
TZNAME:CET
DTSTART:20261025T010000
END:STANDARD
BEGIN:DAYLIGHT
TZOFFSETFROM:+0100
TZOFFSETTO:+0200
TZNAME:CEST
DTSTART:20270328T010000
END:DAYLIGHT
BEGIN:STANDARD
TZOFFSETFROM:+0200
TZOFFSETTO:+0100
TZNAME:CET
DTSTART:20271031T010000
END:STANDARD
END:VTIMEZONE
BEGIN:VEVENT
DTSTART;TZID=Europe/Berlin:20260427T150000
DTEND;TZID=Europe/Berlin:20260427T190000
DTSTAMP:20260422T105317
CREATED:20251212T122618Z
LAST-MODIFIED:20251212T122618Z
UID:10002480-1777302000-1777316400@politische-bildung-sachsen.de
SUMMARY:Politisch.Motiviert.Resilient – mit dem Zürcher Ressourcen Modell (ZRM®)
DESCRIPTION:Ein Workshops für politisch Engagierte zur Selbstmotivation\nPolitisches Engagement ist eine tragende Säule der Demokratie – ob im Haupt- oder Ehrenamt. Doch wer sich tagtäglich für Teilhabe\, Gemeinwohl und Mitbestimmung einsetzt\, trifft oft auf Widerstände\, Frust oder Undankbarkeit. Die Folge: Der eigene Antrieb gerät ins Wanken\, Überforderung oder Erschöpfung schleichen sich ein.\nIn diesem Workshop gehen wir der Frage nach: \n\nWie kann ich meine Motivation wiederfinden – und langfristig erhalten?\nWie bleibe ich innerlich klar\, handlungsfähig und gesund in meinem politischen Alltag?\n\nMit dem Zürcher Ressourcen Modell (ZRM®) lernen die Teilnehmenden eine Methode kennen\, um die eigene Motivation neu auszurichten\, innere Ressourcen zu aktivieren und stimmige Ziele zu entwickeln – gerade in herausfordernden Zeiten. \nDer Workshop findet an zwei aufeinander aufbauenden Tagen statt:\n27. April und 24. August 2026 jeweils von 15.00-19.00 Uhr \nEr bietet Raum für persönliche Reflexion\, Austausch mit Gleichgesinnten und praktische Impulse\, um das eigene demokratische Engagement wirksam und nachhaltig zu gestalten. \n\nReferentin:\nMerret Hinrichsen\, meer:blick Personal- und Organisationsentwicklung
URL:https://politische-bildung-sachsen.de/veranstaltung/politisch-motiviert-resilient-mit-dem-zuercher-ressourcen-modell-zrm-3/2026-04-27/
LOCATION:Online
CATEGORIES:Online-Angebot,Seminar/Workshop
ATTACH;FMTTYPE=image/jpeg:https://politische-bildung-sachsen.de/wp-content/uploads/2023/06/HWB_KP.jpg
ORGANIZER;CN="Herbert-Wehner-Bildungswerk f%C3%BCr Kommunalpolitik e.V.":MAILTO:info@wehnerwerk.de
END:VEVENT
BEGIN:VEVENT
DTSTART;TZID=Europe/Berlin:20260824T150000
DTEND;TZID=Europe/Berlin:20260824T190000
DTSTAMP:20260422T105317
CREATED:20251212T122618Z
LAST-MODIFIED:20251212T122618Z
UID:10002481-1787583600-1787598000@politische-bildung-sachsen.de
SUMMARY:Politisch.Motiviert.Resilient – mit dem Zürcher Ressourcen Modell (ZRM®)
DESCRIPTION:Ein Workshops für politisch Engagierte zur Selbstmotivation\nPolitisches Engagement ist eine tragende Säule der Demokratie – ob im Haupt- oder Ehrenamt. Doch wer sich tagtäglich für Teilhabe\, Gemeinwohl und Mitbestimmung einsetzt\, trifft oft auf Widerstände\, Frust oder Undankbarkeit. Die Folge: Der eigene Antrieb gerät ins Wanken\, Überforderung oder Erschöpfung schleichen sich ein.\nIn diesem Workshop gehen wir der Frage nach: \n\nWie kann ich meine Motivation wiederfinden – und langfristig erhalten?\nWie bleibe ich innerlich klar\, handlungsfähig und gesund in meinem politischen Alltag?\n\nMit dem Zürcher Ressourcen Modell (ZRM®) lernen die Teilnehmenden eine Methode kennen\, um die eigene Motivation neu auszurichten\, innere Ressourcen zu aktivieren und stimmige Ziele zu entwickeln – gerade in herausfordernden Zeiten. \nDer Workshop findet an zwei aufeinander aufbauenden Tagen statt:\n27. April und 24. August 2026 jeweils von 15.00-19.00 Uhr \nEr bietet Raum für persönliche Reflexion\, Austausch mit Gleichgesinnten und praktische Impulse\, um das eigene demokratische Engagement wirksam und nachhaltig zu gestalten. \n\nReferentin:\nMerret Hinrichsen\, meer:blick Personal- und Organisationsentwicklung
URL:https://politische-bildung-sachsen.de/veranstaltung/politisch-motiviert-resilient-mit-dem-zuercher-ressourcen-modell-zrm-3/2026-08-24/
LOCATION:Online
CATEGORIES:Online-Angebot,Seminar/Workshop
ATTACH;FMTTYPE=image/jpeg:https://politische-bildung-sachsen.de/wp-content/uploads/2023/06/HWB_KP.jpg
ORGANIZER;CN="Herbert-Wehner-Bildungswerk f%C3%BCr Kommunalpolitik e.V.":MAILTO:info@wehnerwerk.de
END:VEVENT
END:VCALENDAR