BEGIN:VCALENDAR
VERSION:2.0
PRODID:-//Politische Bildung für Sachsen - ECPv6.15.20//NONSGML v1.0//EN
CALSCALE:GREGORIAN
METHOD:PUBLISH
X-ORIGINAL-URL:https://politische-bildung-sachsen.de
X-WR-CALDESC:Veranstaltungen für Politische Bildung für Sachsen
REFRESH-INTERVAL;VALUE=DURATION:PT1H
X-Robots-Tag:noindex
X-PUBLISHED-TTL:PT1H
BEGIN:VTIMEZONE
TZID:Europe/Berlin
BEGIN:DAYLIGHT
TZOFFSETFROM:+0100
TZOFFSETTO:+0200
TZNAME:CEST
DTSTART:20240331T010000
END:DAYLIGHT
BEGIN:STANDARD
TZOFFSETFROM:+0200
TZOFFSETTO:+0100
TZNAME:CET
DTSTART:20241027T010000
END:STANDARD
BEGIN:DAYLIGHT
TZOFFSETFROM:+0100
TZOFFSETTO:+0200
TZNAME:CEST
DTSTART:20250330T010000
END:DAYLIGHT
BEGIN:STANDARD
TZOFFSETFROM:+0200
TZOFFSETTO:+0100
TZNAME:CET
DTSTART:20251026T010000
END:STANDARD
BEGIN:DAYLIGHT
TZOFFSETFROM:+0100
TZOFFSETTO:+0200
TZNAME:CEST
DTSTART:20260329T010000
END:DAYLIGHT
BEGIN:STANDARD
TZOFFSETFROM:+0200
TZOFFSETTO:+0100
TZNAME:CET
DTSTART:20261025T010000
END:STANDARD
END:VTIMEZONE
BEGIN:VEVENT
DTSTART;TZID=Europe/Berlin:20250904T193000
DTEND;TZID=Europe/Berlin:20250904T210000
DTSTAMP:20260423T171534
CREATED:20250829T150022Z
LAST-MODIFIED:20250829T150022Z
UID:10002381-1757014200-1757019600@politische-bildung-sachsen.de
SUMMARY:Schnall dich an\, es geht los - Lesung und Buchgespräch mit Domenico Müllensiefen
DESCRIPTION:Die Bibliothek Plagwitz "Georg Maurer" und die Friedrich-Ebert-Stiftung Sachsen laden herzlich ein zu einem literarischen Abend mit Domenico Müllensiefen. Der Autor liest aus seinem Roman Schnall dich an\, es geht los – einem vielstimmigen\, atmosphärisch dichten Buch\, das ebenso literarisch wie politisch ist.\nIm Wechselspiel zwischen Lesung und Gespräch sprechen Domenico Müllensiefen und die Leipziger Journalistin Claudia Euen über das Erzählen von Herkunft\, über das Leben in ostdeutschen Kleinstädten\, über das Verlorengehen und Weitermachen – und darüber\, wie Literatur jenseits der Metropolen Wirklichkeit sichtbar machen kann.\nIm Zentrum des Romans steht Marcel\, ein junger Mann in der Altmark\, der zwischen Dönerstand\, Familienbruch\, Freundschaft und Erinnerung seinen Weg sucht. Müllensiefen verleiht den Menschen einer Region\, die oft als „abgehängt“ beschrieben wird\, Stimme\, Würde und Komplexität. Dabei ist sein Roman keine Sozialreportage\, sondern große Gegenwartsliteratur – nah am Alltag\, klar in der Haltung\, politisch in jeder Zeile.\nWie erzählt man vom sogenannten Osten ohne Klischees? Welche Rolle kann Literatur spielen\, um gesellschaftliche Wirklichkeit zu reflektieren – und zu verändern? Diese Fragen begleiten den Abend\, der Lesung und Gespräch auf lebendige Weise verbindet \nIm Gespräch: \n\n\n\nDomenico Müllensiefen\, Autor "Schnall dich an\, es geht los"\, Leipzig\n\n\n\n  \n\nClaudia Euen\, Journalistin Leipzig (Moderation)\n\n  \nDer Eintritt ist frei.
URL:https://politische-bildung-sachsen.de/veranstaltung/schnall-dich-an-es-geht-los-lesung-und-buchgespraech-mit-domenico-muellensiefen/
LOCATION:Bibliothek Plagwitz Georg Maurer\, Zschochersche Straße 14\, Leipzig\, Sachsen\, 04229\, Germany
CATEGORIES:Lesung,Vortrag/Infoveranstaltung
ATTACH;FMTTYPE=image/jpeg:https://politische-bildung-sachsen.de/wp-content/uploads/2024/05/Logo_FES_Sachsen.jpg
ORGANIZER;CN="Friedrich-Ebert-Stiftung Sachsen":MAILTO:sachsen@fes.de
END:VEVENT
END:VCALENDAR