BEGIN:VCALENDAR
VERSION:2.0
PRODID:-//Politische Bildung für Sachsen - ECPv6.15.20//NONSGML v1.0//EN
CALSCALE:GREGORIAN
METHOD:PUBLISH
X-ORIGINAL-URL:https://politische-bildung-sachsen.de
X-WR-CALDESC:Veranstaltungen für Politische Bildung für Sachsen
REFRESH-INTERVAL;VALUE=DURATION:PT1H
X-Robots-Tag:noindex
X-PUBLISHED-TTL:PT1H
BEGIN:VTIMEZONE
TZID:Europe/Berlin
BEGIN:DAYLIGHT
TZOFFSETFROM:+0100
TZOFFSETTO:+0200
TZNAME:CEST
DTSTART:20240331T010000
END:DAYLIGHT
BEGIN:STANDARD
TZOFFSETFROM:+0200
TZOFFSETTO:+0100
TZNAME:CET
DTSTART:20241027T010000
END:STANDARD
BEGIN:DAYLIGHT
TZOFFSETFROM:+0100
TZOFFSETTO:+0200
TZNAME:CEST
DTSTART:20250330T010000
END:DAYLIGHT
BEGIN:STANDARD
TZOFFSETFROM:+0200
TZOFFSETTO:+0100
TZNAME:CET
DTSTART:20251026T010000
END:STANDARD
BEGIN:DAYLIGHT
TZOFFSETFROM:+0100
TZOFFSETTO:+0200
TZNAME:CEST
DTSTART:20260329T010000
END:DAYLIGHT
BEGIN:STANDARD
TZOFFSETFROM:+0200
TZOFFSETTO:+0100
TZNAME:CET
DTSTART:20261025T010000
END:STANDARD
END:VTIMEZONE
BEGIN:VEVENT
DTSTART;TZID=Europe/Berlin:20250926T180000
DTEND;TZID=Europe/Berlin:20250928T180000
DTSTAMP:20260421T064807
CREATED:20250903T140559Z
LAST-MODIFIED:20250903T140559Z
UID:10002394-1758909600-1759082400@politische-bildung-sachsen.de
SUMMARY:Gedenkwanderung und Städtetrip in der sächsischen Schweiz und Dresden: Erinnerung an Widerstand und Verfolgung in der NS-Zeit
DESCRIPTION:Der BDP Sachsen und der BDP Thüringen laden in Kooperation mit dem AKuBiZ aus Pirna zur antifaschistischen Jugendgedenkwanderung ein!\nGemeinsam wollen wir uns auf Spurensuche begeben – zu Orten des Widerstands und der Verfolgung während der NS-Diktatur in der Region Sächsische Schweiz-Osterzgebirge und in Dresden.\nAusgangspunkt für unsere Wanderung ist die heutige Jugendherberge Burg Hohnstein\, ein historisch bedeutsamer Ort\, der 1933/34 als eines der ersten Konzentrationslager Deutschlands genutzt wurde. Auf einer geführten Wanderung entlang der Erinnerungswege tauchen wir ein in die Geschichten mutiger Widerständler:innen\, die sich in dieser Region gegen den Nationalsozialismus zur Wehr setzten. Durch biografische Einblicke geben wir den Verfolgten ein Gesicht und würdigen ihr Handeln.\nIm zweiten Teil führt uns die Gedenkwanderung nach Dresden\, wo wir auf einer naturnahen Tour politischen Persönlichkeiten verschiedenster kultureller Herkunft begegnen\, die – trotz Verfolgung – die Stadtgeschichte während der NS-Diktatur maßgeblich mitgeprägt haben.\nDen Abschluss bildet ein Besuch der Gedenkstätte am Münchner Platz\, die an die Opfer politischer Strafjustiz in der NS-Zeit erinnert. Dazwischen ist natürlich viel Raum für Austausch\, Reflexion\, Vernetzung und Spaß. \nBeginn: Freitag 18:00\, 26.09. @ Burg Hohnstein\nEnde: Sonntag\, 18:00\, 28.09\, @ Dresden \nKosten\, nach Selbsteinschätzung 60-90€ \nEigenständige Anreise via Zug oder gemeinsame Anreise mit Bus \nKurzprogramm:\nFreitag: 18:00 Ankommen\, Abendessen und Einstieg\nSamstag: tagsüber: Wanderung\, abends: Reise nach Dresden\nSonntag: tagsüber: Stadtrundgang und Gedenkstättenbesuch\, abends: Abreise \nAnmeldung über: https://cloud.bdp.org/index.php/apps/forms/gj4Kw9mB6n4qEwDB \nFragen und weitere Infos unter:\nlv********@*dp.org
URL:https://politische-bildung-sachsen.de/veranstaltung/gedenkwanderung-und-staedtetrip-in-der-saechsischen-schweiz-und-dresden-erinnerung-an-widerstand-und-verfolgung-in-der-ns-zeit/
LOCATION:Burg Hohnstein\, Markt 1\, Hohnstein\, Sachsen\, 01848\, Deutschland
CATEGORIES:Bildungsfahrt/Gedenkstättenfahrt
ATTACH;FMTTYPE=image/png:https://politische-bildung-sachsen.de/wp-content/uploads/2024/11/BDPLogo_web.png
ORGANIZER;CN="Bund Deutscher Pfadfinder_innen Landesverband Sachsen e.V.":MAILTO:lv.sachsen@bdp.org
END:VEVENT
END:VCALENDAR