BEGIN:VCALENDAR
VERSION:2.0
PRODID:-//Politische Bildung für Sachsen - ECPv6.15.20//NONSGML v1.0//EN
CALSCALE:GREGORIAN
METHOD:PUBLISH
X-WR-CALNAME:Politische Bildung für Sachsen
X-ORIGINAL-URL:https://politische-bildung-sachsen.de
X-WR-CALDESC:Veranstaltungen für Politische Bildung für Sachsen
REFRESH-INTERVAL;VALUE=DURATION:PT1H
X-Robots-Tag:noindex
X-PUBLISHED-TTL:PT1H
BEGIN:VTIMEZONE
TZID:Europe/Berlin
BEGIN:DAYLIGHT
TZOFFSETFROM:+0100
TZOFFSETTO:+0200
TZNAME:CEST
DTSTART:20240331T010000
END:DAYLIGHT
BEGIN:STANDARD
TZOFFSETFROM:+0200
TZOFFSETTO:+0100
TZNAME:CET
DTSTART:20241027T010000
END:STANDARD
BEGIN:DAYLIGHT
TZOFFSETFROM:+0100
TZOFFSETTO:+0200
TZNAME:CEST
DTSTART:20250330T010000
END:DAYLIGHT
BEGIN:STANDARD
TZOFFSETFROM:+0200
TZOFFSETTO:+0100
TZNAME:CET
DTSTART:20251026T010000
END:STANDARD
BEGIN:DAYLIGHT
TZOFFSETFROM:+0100
TZOFFSETTO:+0200
TZNAME:CEST
DTSTART:20260329T010000
END:DAYLIGHT
BEGIN:STANDARD
TZOFFSETFROM:+0200
TZOFFSETTO:+0100
TZNAME:CET
DTSTART:20261025T010000
END:STANDARD
END:VTIMEZONE
BEGIN:VEVENT
DTSTART;TZID=Europe/Berlin:20251122T110000
DTEND;TZID=Europe/Berlin:20251123T170000
DTSTAMP:20260423T140535
CREATED:20251114T082736Z
LAST-MODIFIED:20251114T082736Z
UID:10002445-1763809200-1763917200@politische-bildung-sachsen.de
SUMMARY:Zu Geschichte und Kontinuitäten rechter Gewalt in der Nachwendezeit - Projekttage in Chemnitz
DESCRIPTION:„Baseballschlägerjahre“\, „Nullerjahre“\, „Rechter Terror“ – Begriffe\, die längst Eingang in den öffentlichen Diskurs gefunden haben. Sie stehen für Versuche\, das zu benennen\, was für viele Menschen nach der Wende Alltag war: Eine rechte Hegemonie\, die das Leben von Punks\, Migrant:innen\, People of Colour\, Queers sowie Jüdinnen und Juden zur Hölle machte. Statt der oft beschworenen „blühenden Landschaften“ erlebten viele ein Klima der Angst – geprägt von rechter Gewalt und gesellschaftlicher Gleichgültigkeit. Dieser Zustand war nie wirklich vorbei\, an vielen Orten ist er bis heute Normalität. \nWir wollen unseren Blick auf jenen Teil der Geschichte und der Gegenwart in der Region Chemnitz und dem Erzgebirge richten. Chemnitz als Stadt\, in der das NSU-Kerntrio Unterschlupf finden konnte und gedeckt durch ein breit aufgestelltes Netzwerk von Unterstützer:innen seine rassistische Mordserie weiter plante. Und das Erzgebirge als Schablone für ländliche Räume\, in denen rechte Akteure systematisch Strukturen in Jugendkultur\, Nachbarschaften\, Vereinen und Kommunalpolitik aufgebaut haben\, wo sich Betroffene täglich unmittelbar mit möglichen Bedrohungen konfrontiert sehen müssen. \nAn zwei Projekttagen wollen wir uns dieser Realität rechter Dominanzräume widmen. Im Rahmen zweier Stadtrundgänge durch Chemnitz beschäftigen wir uns mit soziostrukturellen Bedingungen\, die jene Gewaltausbrüche möglich machten. Gleichzeitig schaffen wir Raum für Erinnerung und Andenken der Opfer rechter Gewalt: Im Gespräch mit der Gedenkinitiative zum Mord an Patrick Thürmer\, einem Punk\, der 1999 nach einem Konzert in Hohenstein-Ernstthal von Neonazis ermordet wurde\, sowie in der Auseinandersetzung mit der Ausstellung „Offener Prozess“ zu den NSU-Verbrechen\, blicken wir auf Formen aktiver\, gegenwartsbezogener Erinnerungsarbeit. \nProgramm: \nSamstag 22.11.2025\n11:00 Uhr\nGespräch mit der Gedenk-Initiative zum Mord an Patrick Thürmer und zu den Herausforderungen antifaschistischer Erinnerungsarbeit\n15:00 Uhr\nStadtrundgang mit Dominik Intelmann: Die Baseballschlägerjahre in Chemnitz \nSonntag 23.11.2025\n10:00 Uhr\nCritical Walk: Spurensuche- das ehemalige Fritz-Heckert-Gebiet und der NSU-Komplex\n15:30 Uhr\nBesuch und Führung durch die Ausstellung „Offener Prozess“ im Dokumentationszentrum zum NSU in Chemnitz \nInfos zur Anmeldung: \nZur Anmeldung oder Fragen schreib uns gern eine Mail: lv********@*dp.org \nDu kannst dich für beide Tage anmelden\, oder auch nur für einen der beiden. \nDie Teilnahme an den Projekttagen ist kostenlos. \nEs gibt an beiden Tagen eine gemeinsame Zuganreise aus Leipzig oder die Möglichkeit\, dass wir uns in Chemnitz treffen.
URL:https://politische-bildung-sachsen.de/veranstaltung/zu-geschichte-und-kontinuitaeten-rechter-gewalt-in-der-nachwendezeit-projekttage-in-chemnitz/
LOCATION:Chemnitz\, Germany
CATEGORIES:Projekttag
ATTACH;FMTTYPE=image/png:https://politische-bildung-sachsen.de/wp-content/uploads/2024/11/BDPLogo_web.png
ORGANIZER;CN="Bund Deutscher Pfadfinder_innen Landesverband Sachsen e.V.":MAILTO:lv.sachsen@bdp.org
END:VEVENT
BEGIN:VEVENT
DTSTART;TZID=Europe/Berlin:20251025T100000
DTEND;TZID=Europe/Berlin:20251025T170000
DTSTAMP:20260423T140535
CREATED:20250403T091531Z
LAST-MODIFIED:20250403T091531Z
UID:10002219-1761386400-1761411600@politische-bildung-sachsen.de
SUMMARY:Verwaltung ehrenamtlich kontrollieren und steuern – (Wie) Geht das?
DESCRIPTION:Die kommunalen Mandatsträgerinnen und ‑träger in den Stadt- und Gemeinderäten sowie den Kreistagen sollen die Grundsätze der Arbeit der kommunalen Verwaltung bestimmen und die Arbeit in der jeweiligen Verwaltung umfassend kontrollieren. \n\n\n\n\nDiese Aufgabe stellt für ehrenamtlich tätige Mandatsträgerinnen und ‑träger eine Herausforderung dar\, da sie in den Verwaltungen auf hauptberufliche Fachkräfte treffen. Das Seminar bietet den Teilnehmenden einen praxisorientierten Werkzeugkoffer\, mit dem sie schnell herausfinden können\, welche Informationen und Instrumente sie benötigen\, um mit ihren begrenzten Zeitressourcen die Verwaltung effizient zu überwachen und zu steuern. \n\n\n\n\nIm Seminar werden zunächst die Aufgaben und Zuständigkeiten des Kreistags\, Stadt- oder Gemeinderats einerseits sowie der Kreis‑\, Stadt- oder Gemeindeverwaltung andererseits vorgestellt und gemeinsam erörtert. Anschließend werden sowohl direkte als auch indirekte Steuerungsinstrumente sowie externe Kontrollmöglichkeiten thematisiert. Durch die Bearbeitung von Praxisbeispielen können die Teilnehmenden das Erlernte anwenden und vertiefen.
URL:https://politische-bildung-sachsen.de/veranstaltung/verwaltung-ehrenamtlich-kontrollieren-und-steuern-wie-geht-das/
LOCATION:Chemnitz\, Germany
CATEGORIES:Seminar/Workshop
ATTACH;FMTTYPE=image/jpeg:https://politische-bildung-sachsen.de/wp-content/uploads/2024/05/Logo_DAKS.jpg
ORGANIZER;CN="Die Alternative Kommunalpolitik Sachsens (DAKS)":MAILTO:mail@daks-sachsen.de
END:VEVENT
BEGIN:VEVENT
DTSTART;TZID=Europe/Berlin:20251020T140000
DTEND;TZID=Europe/Berlin:20251020T170000
DTSTAMP:20260423T140535
CREATED:20250925T141707Z
LAST-MODIFIED:20250925T141707Z
UID:10002411-1760968800-1760979600@politische-bildung-sachsen.de
SUMMARY:Marx für Alle!
DESCRIPTION:im Rahmen der KRETA (Kritische Einführungstage) Chemnitz \nEin Seminar zur Einführung in Marx’ Analyse und Kritik des Kapitalismus. Karl Marx’ Analyse des Kapitalismus und seine Kritik daran sind bis heute die wichtigste Grundlage für ein linkes Verständnis des herrschenden Wirtschafts- und Gesellschaftssystems und einer linken Kritik daran. Ziel des Seminars ist es\, Marx’ Theorie für Einsteiger*innen verständlich und diskutierbar zu machen. Dabei wird kein Vorwissen über die ökonomische Theorie von Marx oder anderen Autor*innen vorausgesetzt. \nAusgehend von verschiedenen Fragen schauen wir uns grundlegende Ideen und Konzepte von Marx’ Theorie an\, unter anderem: \n\nWas macht die kapitalistische Produktionsweise?\nWie wird Geld zu Kapital? Welche Rolle spielen Klassen und Klassenkampf?\nWie funktioniert Kommunismus?\n\nDie Veranstaltung ist kein Lektüreseminar. Wir beschäftigen uns stattdessen mit dem Thema anhand von Schaubildern\, Simulationen sowie kurzen Textausschnitten und diskutieren gemeinsam darüber. \n  \n\nReferentin \nNora Horn studierte Wirtschaftswissenschaften\, Soziologie und Internationale Politische Ökonomie. Sie arbeitet freiberuflich in der politischen Bildung und Sozialforschung zu ökonomischen\, soziologischen und politikwissenschaftlichen Themen. \n  \n\nDie Veranstaltung findet im Rahmen der Kritischen Einführungstage Chemnitz statt und richtet sich vorrangig an Studierende. \n  \n\nDiese Maßnahme wird mitfinanziert durch Steuermittel auf der Grundlage des vom Sächsischen Landtag beschlossenen Haushaltes.
URL:https://politische-bildung-sachsen.de/veranstaltung/marx-fuer-alle/
LOCATION:Chemnitz\, Germany
CATEGORIES:Seminar/Workshop
ATTACH;FMTTYPE=image/jpeg:https://politische-bildung-sachsen.de/wp-content/uploads/2023/05/Logo_RLS.jpg
ORGANIZER;CN="Rosa-Luxemburg-Stiftung Sachsen e.V.":MAILTO:info@rosalux-sachsen.de
END:VEVENT
END:VCALENDAR