BEGIN:VCALENDAR
VERSION:2.0
PRODID:-//Politische Bildung für Sachsen - ECPv6.15.20//NONSGML v1.0//EN
CALSCALE:GREGORIAN
METHOD:PUBLISH
X-ORIGINAL-URL:https://politische-bildung-sachsen.de
X-WR-CALDESC:Veranstaltungen für Politische Bildung für Sachsen
REFRESH-INTERVAL;VALUE=DURATION:PT1H
X-Robots-Tag:noindex
X-PUBLISHED-TTL:PT1H
BEGIN:VTIMEZONE
TZID:Europe/Berlin
BEGIN:DAYLIGHT
TZOFFSETFROM:+0100
TZOFFSETTO:+0200
TZNAME:CEST
DTSTART:20240331T010000
END:DAYLIGHT
BEGIN:STANDARD
TZOFFSETFROM:+0200
TZOFFSETTO:+0100
TZNAME:CET
DTSTART:20241027T010000
END:STANDARD
BEGIN:DAYLIGHT
TZOFFSETFROM:+0100
TZOFFSETTO:+0200
TZNAME:CEST
DTSTART:20250330T010000
END:DAYLIGHT
BEGIN:STANDARD
TZOFFSETFROM:+0200
TZOFFSETTO:+0100
TZNAME:CET
DTSTART:20251026T010000
END:STANDARD
BEGIN:DAYLIGHT
TZOFFSETFROM:+0100
TZOFFSETTO:+0200
TZNAME:CEST
DTSTART:20260329T010000
END:DAYLIGHT
BEGIN:STANDARD
TZOFFSETFROM:+0200
TZOFFSETTO:+0100
TZNAME:CET
DTSTART:20261025T010000
END:STANDARD
END:VTIMEZONE
BEGIN:VEVENT
DTSTART;TZID=Europe/Berlin:20251211T190000
DTEND;TZID=Europe/Berlin:20251211T213000
DTSTAMP:20260421T084400
CREATED:20251029T103228Z
LAST-MODIFIED:20251030T115209Z
UID:10002438-1765479600-1765488600@politische-bildung-sachsen.de
SUMMARY:POETRY SLAM »Von der Freiheit\, sich selbst zu belügen«
DESCRIPTION:Wir feiern den erfolgreichen Abschluss unsers Projekts „Verschwörungsideologien – Erkennen .. Verstehen .. Begegnen“ und laden ein zu einem unterhaltsamen Abend der geschliffenen Worte im Klartext. \nSeid vorbereitet auf:\n🎤 Worte – fein gedrechselt\, nicht geschwurbelt\n📚 Geschichten – vielleicht nicht alle wahr\, aber warmherzig\n👄 Tonfall – deutlich\, aber ohne Geschrei\n📣 Stimmung – kontrovers\, aber ohne Hass\n🥇 Ringen um den Sieg im Wettbewerb – nicht geräuschlos\, aber kultiviert\n… und – sorry! – ein paar Fakten zu einem Jahr des Aufdeckens von Verschwörungserzählungen im Wehnerwerk. \nFür euch in den Ring steigen:\nNils Straatmann (Leipzig) ++ Ole (Berlin) ++ Olli Schumann (Dresden) ++ Paul Weigl (Berlin) \nDurchs Programm führt euch:\nThe one and only ++ Kaddi Cutz
URL:https://politische-bildung-sachsen.de/veranstaltung/poetry-slam-von-der-freiheit-sich-selbst-zu-beluegen/
LOCATION:FORUM im Herbert-Wehner-Haus\, Devrientstraße 7\, Dresden\, Sachsen\, 01067\, Deutschland
ATTACH;FMTTYPE=image/jpeg:https://politische-bildung-sachsen.de/wp-content/uploads/2023/07/HWB.jpg
ORGANIZER;CN="Herbert-Wehner-Bildungswerk e.V.":MAILTO:info@wehnerwerk.de
END:VEVENT
BEGIN:VEVENT
DTSTART;TZID=Europe/Berlin:20251113T183000
DTEND;TZID=Europe/Berlin:20251113T203000
DTSTAMP:20260421T084400
CREATED:20251030T114745Z
LAST-MODIFIED:20251030T115700Z
UID:10002439-1763058600-1763065800@politische-bildung-sachsen.de
SUMMARY:Film & Gespräch: „Soldaten des Lichts“ in Dresden
DESCRIPTION:Der Dokumentarfilm „Soldaten des Lichts“ (2025) öffnet den Blick in die Welt alternativer Influencer\, radikaler Esoterik und Verschwörungsideologien. Im Zentrum steht David Ekwe Ebobisse alias „Mister Raw“\, flankiert von Figuren wie Peter Fitzek\, Gründer des „Königreichs Deutschland“. Präzise und eindringlich zeigt der Film\, wie gefährliche Parallelwelten entstehen. Im Anschluss lädt ein öffentliches Publikumsgespräch zum Austausch über Ursachen\, Risiken\, Prävention\, Auswege und Unterstützungsmöglichkeiten ein. \nEintritt frei!
URL:https://politische-bildung-sachsen.de/veranstaltung/film-gespraech-soldaten-des-lichts-in-dresden/
LOCATION:FORUM im Herbert-Wehner-Haus\, Devrientstraße 7\, Dresden\, Sachsen\, 01067\, Deutschland
CATEGORIES:Diskussion,Filmveranstaltung
ATTACH;FMTTYPE=image/jpeg:https://politische-bildung-sachsen.de/wp-content/uploads/2023/07/HWB.jpg
ORGANIZER;CN="Herbert-Wehner-Bildungswerk e.V.":MAILTO:info@wehnerwerk.de
END:VEVENT
BEGIN:VEVENT
DTSTART;TZID=Europe/Berlin:20251023T190000
DTEND;TZID=Europe/Berlin:20251023T210000
DTSTAMP:20260421T084400
CREATED:20250916T134122Z
LAST-MODIFIED:20250916T134122Z
UID:10002404-1761246000-1761253200@politische-bildung-sachsen.de
SUMMARY:Szenische Lesung & Gespräch: Wir suchen ein Land – Ein Exilroman von Robert Grötzsch
DESCRIPTION:Buchpremiere\nSeit September 2022 erinnern zwei Stolpersteine auf der Ankerstraße 7 in Dresden an Robert und Hedwig Grötzsch. Der Freundeskreis Herbert-Wehner-Bildungswerk e.V. hat diese Steine finanziert und übernahm die Patenschaft. \nDaran anschließend laden wir ein zu einer szenischen Lesung aus „Wir suchen ein Land. Roman einer Emigration“ von Robert Grötzsch\, neu herausgegeben von Maik Baumgärtner und Andreas Wassermann. Entstanden 1936 als unmittelbare Momentaufnahme antifaschistischer Flucht\, schildert der Roman das Leben in einer Emigranten-Kommune in Böhmen\, das Gefühl der Entwurzelung und zugleich die unerschütterliche Hoffnung auf ein neues Land. \nRobert Grötzsch zeichnet ein eindringliches Bild: Figuren wie Karl\, Gusti\, Moses\, Justus und die Jungen Peter und Paul sind in einem baufälligen Haus – der sogenannten „Spinne“ – in Böhmen zusammengekommen\, um in unsicheren Zeiten ein neues Leben zu wagen. Nachtträume vom verlorenen Deutschland\, die Albträume aus der Vergangenheit und die quälende Frage\, ob man genug getan hat gegen die Naziherrschaft\, bestimmen ihren Alltag – und doch bleibt die Hoffnung auf Sicherheit\, Frieden und einen Neubeginn. Eine Schauspielerin des Staatsschauspiels Dresden (n.n.) lässt die dramatischen Schicksale dieser politischen Flüchtlinge lebendig werden. \nÜber den Autor\nRobert Grötzsch war Klempner\, Schriftsteller und Chefredakteur der Dresdner Volkszeitung. 1933 floh er nach Prag\, um der nationalsozialistischen Verfolgung zu entkommen. Über mehrere Fluchtstationen kam er 1941 schließlich nach New York\, wo er 1946 verstarb. Sein Roman unterscheidet sich von bekannter Exilliteratur wie Exil (Lion Feuchtwanger)\, Arc de Triomphe (Erich Maria Remarque) oder Transit (Anna Seghers) durch seine Eindringlichkeit und Direktheit. „Grötzsch schrieb hastig und konkret – Asphaltliteratur\, wie sie in der Weimarer Republik Furore machte und von den Nationalsozialisten gehasst wurde. Auch das macht den Roman modern\, ja gegenwärtig. Und\, aktueller denn je: Es ist ein antifaschistisches Bekenntnis aus der republikanischen Mitte der Gesellschaft“ (Maik Baumgärtner & Andreas Wassermann). \n\nModeriertes Gespräch\nIm Anschluss an die szenische Lesung sind Sie herzlich eingeladen mit den Herausgebern Maik Baumgärtner und Andreas Wassermann ins Gespräch zu kommen. Die beiden geben Einblicke in den Entstehungs- und Entdeckungsprozess der Neuauflage\, reflektieren die heutige Bedeutung des Romans und erläutern\, warum Grötzschs Stimme im literarischen Gedächtnis wieder Gehör finden sollte. \n\nZur Neuauflage\nDie neue\, ungekürzte Ausgabe von Wir suchen ein Land erscheint im Oktober 2025 bei Edition Überland – herausgegeben von Maik Baumgärtner und Andreas Wassermann. Bis zum 30. September 2025 ist das Buch für Vorbesteller für 19\,00 € statt 23\,00 € erhältlich. \n\nWir freuen uns auf einen literarisch-historischen Abend – voller bewegter Stimmen\, lebendiger Geschichte und wertvollen Impulsen.
URL:https://politische-bildung-sachsen.de/veranstaltung/szenische-lesung-gespraech-wir-suchen-ein-land-ein-exilroman-von-robert-groetzsch/
LOCATION:FORUM im Herbert-Wehner-Haus\, Devrientstraße 7\, Dresden\, Sachsen\, 01067\, Deutschland
CATEGORIES:Diskussion,Lesung
ATTACH;FMTTYPE=image/jpeg:https://politische-bildung-sachsen.de/wp-content/uploads/2023/07/HWB.jpg
ORGANIZER;CN="Herbert-Wehner-Bildungswerk e.V.":MAILTO:info@wehnerwerk.de
END:VEVENT
BEGIN:VEVENT
DTSTART;TZID=Europe/Berlin:20250930T160000
DTEND;TZID=Europe/Berlin:20250930T210000
DTSTAMP:20260421T084400
CREATED:20250716T104016Z
LAST-MODIFIED:20250716T104016Z
UID:10002292-1759248000-1759266000@politische-bildung-sachsen.de
SUMMARY:Kommunikation am Infostand leicht gemacht ‒ Seminar mit Schauspieler Sven Hönig
DESCRIPTION:Mit Bürgerinnen und Bürgern ins Gespräch zu kommen gehört zum Alltag von Initiativen\, Vereinen und Parteien. Da viele Menschen keine organisierten Veranstaltungen mehr besuchen\, wird es für politisch Aktive immer wichtiger\, auf der Straße Kontakt zu ihnen zu gewinnen. Doch in der Praxis ist das oft gar nicht so einfach. Einigen Engagierten fällt es schwer\, an Straßenständen oder am Rande von Veranstaltungen auf unbekannte Menschen zuzugehen und mit ihnen ins Gespräch zu kommen. Auch erfahrene Engagierte stoßen bei Gesprächsangeboten im öffentlichen Raum immer häufiger auf Widerstand und damit an ihre Grenzen. \nDabei kann das Kommunikations-Werkzeug „Small Talk“ eine Hilfestellung bieten. Jedoch hat Small Talk keinen guten Ruf. Er gilt als Zeitverschwendung und oberflächlich. Viele Menschen haben Angst vor peinlichen Gesprächspausen und möglichen „Fettnäpfchen“. Das muss nicht sein. \nWie kann „Small Talk“ und „Storytelling“ ein guter Auftakt für einen inspirierenden politischen Austausch sein\, ohne aufdringlich zu sein? Untersuchungen zeigen\, dass ein guter Gesprächseinstieg mit Small Talk die Bereitschaft erhöht\, Inhalte aufzunehmen und daraufhin seine eigene Meinung zu überprüfen. Jede:r kann die Regeln eines guten Gesprächs erlernen und dadurch etwas Neues auch über sich selbst erfahren. \nUnter Anleitung des Schauspielers Sven Hönig gehen die Teilnehmenden des Workshops der Frage nach\, was einen guten Gesprächseinstieg und -verlauf ausmacht. Mit Übungen aus Schauspiel und Stimmbildung\, Praxisbeispielen aus Psychologie und Kommunikationswissenschaft erarbeiten und erproben wir spielerisch die wichtigsten Bestandteile einer selbstbewussten Gesprächsführung. \nDieser Workshop ist ausdrücklich für Anfänger:innen und Fortgeschrittene konzipiert. \n\nInhaltliche Schwerpunkte: \n\nWie gestalte ich einen Gesprächseinstieg\, der Interesse und Neugier erweckt?\nWie stelle ich mich kurz und prägnant vor\, sodass ich in guter Erinnerung bleibe?\nWie wirke ich als Persönlichkeit und wie kann ich diese für ein empathisches Gespräch nutzen?\nMit welchen Frage-Techniken kann ich den Gesprächsverlauf positiv beeinflussen?\nWelchen Einfluss haben Stimme und Körpersprache?\nWie gehe ich souverän und humorvoll mit unvorhergesehenen Situationen um?\nWie kann ich ein Gespräch elegant und höflich beenden?\nWie gehe ich mit „hartnäckigen“ Fällen um\, in denen sich ein Austausch in eine unangenehme Richtung entwickelt und ich vielleicht sogar persönlich angegriffen werde?\n\n\nDer Workshop orientiert sich stark an den Bedürfnissen und konkreten Fragestellungen der Teilnehmenden. Bei Bedarf können gern persönliche Beispiele und Situationen mitgebracht und bearbeitet werden. \n\nSeminarleitung:\nSven Hönig verfügt über eine langjährige Erfahrung als Trainer für Präsenz-\, Stimm- und Kommunikationstraining. Er unterstützt Menschen dabei\, ihre Anliegen kreativ\, kraftvoll und klar zu kommunizieren. Er studierte an der Staatlichen Hochschule für Schauspielkunst „Ernst Busch“ Berlin und arbeitet seit 2002 als Dipl. Schauspieler für Film\, Fernsehen\, Radio\, Theater. Seit 2017 ist er festes Ensemblemitglied des Staatschauspiels Dresden. \nPreis:\n10\,- €\n5\,- € für Mitglieder im Freundeskreis Herbert-Wehner-Bildungswerk
URL:https://politische-bildung-sachsen.de/veranstaltung/kommunikation-am-infostand-leicht-gemacht-%e2%80%92-seminar-mit-schauspieler-sven-hoenig/
LOCATION:FORUM im Herbert-Wehner-Haus\, Devrientstraße 7\, Dresden\, Sachsen\, 01067\, Deutschland
CATEGORIES:Seminar/Workshop
ATTACH;FMTTYPE=image/jpeg:https://politische-bildung-sachsen.de/wp-content/uploads/2023/06/HWB_KP.jpg
ORGANIZER;CN="Herbert-Wehner-Bildungswerk f%C3%BCr Kommunalpolitik e.V.":MAILTO:info@wehnerwerk.de
END:VEVENT
BEGIN:VEVENT
DTSTART;TZID=Europe/Berlin:20250920T093000
DTEND;TZID=Europe/Berlin:20250920T123000
DTSTAMP:20260421T084400
CREATED:20250603T140042Z
LAST-MODIFIED:20250603T140042Z
UID:10002268-1758360600-1758371400@politische-bildung-sachsen.de
SUMMARY:Kinder zeigen Haltung – Ein Angebot des Wehnerwerks zum Weltkindertag
DESCRIPTION:Kinder sind nicht nur unsere Zukunft – sie sind die Demokrat:innen von morgen.\nDamit Demokratie lebendig bleibt\, muss sie gelernt und erlebt werden – darin sind sich Fachleute einig. \nDer Workshop „DemokraKids“ hat das Ziel\, Kinder frühzeitig für Vielfalt\, Toleranz und ein respektvolles Miteinander zu sensibilisieren. Auf kindgerechte Weise werden die Themen Rassismus und gruppenbezogene Menschenfeindlichkeit behandelt und gezeigt\, warum sie eine Gefahr für unser demokratisches Zusammenleben darstellen. \nDie Kinder lernen außerdem\, Ungerechtigkeit gegenüber Menschen im Alltag zu erkennen und üben erste Möglichkeiten ein\, wie sie – auch als junge Menschen – darauf reagieren können. So wachsen sie Schritt für Schritt zu couragierten und mitfühlenden Mitgestalter:innen unserer Gesellschaft heran. \nDas Seminar richtet sich an Kinder im Alter von 8 bis 12 Jahren. \nBei der Anmeldung bitte unter „Kommentar“ Vorname und Alter Ihres Kindes angeben! \nSeminarleiterinnen:\nSophie Augustin\, Leiterin des Bildungszentrums der Bundesfreiwilligendienste Schleife (Mutter von 2 Kindern)\nKarin Pritzel\, Geschäftsführerin des Wehnerwerks (Mutter von 3 Kindern) \n\nFür eine kleine Pausenversorgung ist gesorgt.\nDie Teilnehmendenzahl ist auf 12 beschränkt.
URL:https://politische-bildung-sachsen.de/veranstaltung/kinder-zeigen-haltung-ein-angebot-des-wehnerwerks-zum-weltkindertag/
LOCATION:FORUM im Herbert-Wehner-Haus\, Devrientstraße 7\, Dresden\, Sachsen\, 01067\, Deutschland
CATEGORIES:Projekttag,Seminar/Workshop,Sonstiges
ATTACH;FMTTYPE=image/jpeg:https://politische-bildung-sachsen.de/wp-content/uploads/2023/07/HWB.jpg
ORGANIZER;CN="Herbert-Wehner-Bildungswerk e.V.":MAILTO:info@wehnerwerk.de
END:VEVENT
BEGIN:VEVENT
DTSTART;TZID=Europe/Berlin:20250904T100000
DTEND;TZID=Europe/Berlin:20250904T170000
DTSTAMP:20260421T084400
CREATED:20250603T134850Z
LAST-MODIFIED:20250822T130421Z
UID:10002265-1756980000-1757005200@politische-bildung-sachsen.de
SUMMARY:Graphic Recording – Visualisieren für Moderation und Präsentation
DESCRIPTION:Ob bei der Moderation einer Vereinssitzung oder bei der Präsentation einer Gruppenarbeit: Visualisierung hilft\, Inhalte greifbar und leichter merkbar zu machen. \nAnhand vieler Beispiele vermittelt das Seminar\, welches Handwerkszeug für die visuelle Kommunikation am Flipchart gebraucht wird. Im Seminar lernt ihr die gängigen Symbole kennen und übt diese zu zeichnen. Am Ende könnt ihr so den ersten Schritt zu einem eigenen Bildvokabular gehen. \nReferent*innen:\nLiane Hoder\, Grafikerin
URL:https://politische-bildung-sachsen.de/veranstaltung/graphic-recording-visualisieren-fuer-moderation-und-praesentation-3/
LOCATION:FORUM im Herbert-Wehner-Haus\, Devrientstraße 7\, Dresden\, Sachsen\, 01067\, Deutschland
CATEGORIES:Seminar/Workshop
ATTACH;FMTTYPE=image/jpeg:https://politische-bildung-sachsen.de/wp-content/uploads/2023/06/HWB_KP.jpg
ORGANIZER;CN="Herbert-Wehner-Bildungswerk f%C3%BCr Kommunalpolitik e.V.":MAILTO:info@wehnerwerk.de
END:VEVENT
END:VCALENDAR