BEGIN:VCALENDAR
VERSION:2.0
PRODID:-//Politische Bildung für Sachsen - ECPv6.15.20//NONSGML v1.0//EN
CALSCALE:GREGORIAN
METHOD:PUBLISH
X-ORIGINAL-URL:https://politische-bildung-sachsen.de
X-WR-CALDESC:Veranstaltungen für Politische Bildung für Sachsen
REFRESH-INTERVAL;VALUE=DURATION:PT1H
X-Robots-Tag:noindex
X-PUBLISHED-TTL:PT1H
BEGIN:VTIMEZONE
TZID:Europe/Berlin
BEGIN:DAYLIGHT
TZOFFSETFROM:+0100
TZOFFSETTO:+0200
TZNAME:CEST
DTSTART:20240331T010000
END:DAYLIGHT
BEGIN:STANDARD
TZOFFSETFROM:+0200
TZOFFSETTO:+0100
TZNAME:CET
DTSTART:20241027T010000
END:STANDARD
BEGIN:DAYLIGHT
TZOFFSETFROM:+0100
TZOFFSETTO:+0200
TZNAME:CEST
DTSTART:20250330T010000
END:DAYLIGHT
BEGIN:STANDARD
TZOFFSETFROM:+0200
TZOFFSETTO:+0100
TZNAME:CET
DTSTART:20251026T010000
END:STANDARD
BEGIN:DAYLIGHT
TZOFFSETFROM:+0100
TZOFFSETTO:+0200
TZNAME:CEST
DTSTART:20260329T010000
END:DAYLIGHT
BEGIN:STANDARD
TZOFFSETFROM:+0200
TZOFFSETTO:+0100
TZNAME:CET
DTSTART:20261025T010000
END:STANDARD
BEGIN:DAYLIGHT
TZOFFSETFROM:+0100
TZOFFSETTO:+0200
TZNAME:CEST
DTSTART:20270328T010000
END:DAYLIGHT
BEGIN:STANDARD
TZOFFSETFROM:+0200
TZOFFSETTO:+0100
TZNAME:CET
DTSTART:20271031T010000
END:STANDARD
END:VTIMEZONE
BEGIN:VEVENT
DTSTART;TZID=Europe/Berlin:20260203T190000
DTEND;TZID=Europe/Berlin:20260203T210000
DTSTAMP:20260421T100336
CREATED:20260122T095120Z
LAST-MODIFIED:20260122T095230Z
UID:10002524-1770145200-1770152400@politische-bildung-sachsen.de
SUMMARY:100 Jahre Hans-Jochen Vogel
DESCRIPTION:Dr. Hans-Jochen Vogel gehört zu den prägenden Persönlichkeiten der deutschen Nachkriegspolitik. Als Münchner Oberbürgermeister (1960–1972)\, Bundesminister für Raumordnung\, Bauwesen und Städtebau sowie Bundesjustizminister und dann SPD-Fraktions- und Parteivorsitzender setzte er Maßstäbe – stets geleitet von seinem unerschütterlichen Eintreten für Rechtsstaatlichkeit\, Demokratie und soziale Gerechtigkeit. Und er engagierte sich auch nach seiner aktiven Zeit als Politiker\, unter anderem als Vorsitzender von „Gegen Vergessen – Für Demokratie e.V.“ \nIn Dresden haben wir Hans Jochen Vogel viel zu verdanken – als Mitglied des Beirats der Stiftung Frauenkirche und als Gründungssprecher des Freundeskreises Herbert-Wehner-Bildungswerk sowie als Unterstützer der Herbert-und-Greta-Wehner-Stiftung. \nZu seinem 100. Geburtstag laden die Stiftung Frauenkirche und das Herbert-Wehner-Bildungswerk e.V. in die Unterkirche der Frauenkirche zu einem Abend der Erinnerung ein\, um das Wirken und Vermächtnis Hans-Jochen Vogels zu würdigen. \n\nProgramm \n\nEinlass ab 18:30 Uhr\n19:00 Uhr: Begrüßung durch Frauenkirchenpfarrer Markus Engelhardt und Karin Pritzel\, Geschäftsführerin des Herbert-Wehner-Bildungswerk e.V.\n19:10 Uhr: Vortrag zum Leben und Wirken von Hans Jochen Vogel\nEs referiert: Prof. Dr. Christoph Meyer als Vorstand der Herbert-und-Greta-Wehner-Stiftung und langjähriger Leiter des Herbert-Wehner-Bildungswerk e.V.\nca. 20:00 Uhr: Fragen\, Rückmeldungen\, Wertschätzungen aus dem Publikum\n\n\nDie Veranstaltung ist eine Kooperation der Stiftung Frauenkirche\, des Herbert-Wehner-Bildungswerk e.V.\, der Herbert-und-Greta-Wehner-Stiftung und der VHS Dresden.
URL:https://politische-bildung-sachsen.de/veranstaltung/100-jahre-hans-jochen-vogel/
LOCATION:Frauenkirche Dresden | Unterkirche (Zugang über Eingang F)\, Neumarkt\, Dresden\, 01067
CATEGORIES:Gedenkveranstaltung,Vortrag/Infoveranstaltung
ATTACH;FMTTYPE=image/jpeg:https://politische-bildung-sachsen.de/wp-content/uploads/2023/07/HWB.jpg
ORGANIZER;CN="Herbert-Wehner-Bildungswerk e.V.":MAILTO:info@wehnerwerk.de
END:VEVENT
BEGIN:VEVENT
DTSTART;TZID=Europe/Berlin:20250925T193000
DTEND;TZID=Europe/Berlin:20250925T210000
DTSTAMP:20260421T100336
CREATED:20250409T102456Z
LAST-MODIFIED:20250409T102456Z
UID:10002221-1758828600-1758834000@politische-bildung-sachsen.de
SUMMARY:Dresdner Gedenkweg – unterwegs zur Versöhnung
DESCRIPTION:Ein Beitrag zur Dresdner Gedenkkultur seit 2010\nDr. Hans-Joachim Jäger Geschäftsführer i. R. der Fördergesellschaft \nJeweils am 13. Februar führt ein Gedenkweg unter Führung der Initiatoren mit Repräsentanten aus Stadt und Öffentlichkeit zu Orten\, die hier in Dresden authentisch an Krieg\, Zerstörung und Wiederaufbau erinnern. Diese Erinnerung gewinnt Bedeutung für das Ringen um Frieden in unserer Gegenwart\, wo Krieg und Zerstörung menschliches Leben weltweit bedrohen.
URL:https://politische-bildung-sachsen.de/veranstaltung/dresdner-gedenkweg-unterwegs-zur-versoehnung-2/
LOCATION:Frauenkirche Dresden | Unterkirche (Zugang über Eingang F)\, Neumarkt\, Dresden\, 01067
CATEGORIES:Bildungsfahrt/Gedenkstättenfahrt,Exkursion,Fort- & Weiterbildung,Führung,Vortrag/Infoveranstaltung
ATTACH;FMTTYPE=image/png:https://politische-bildung-sachsen.de/wp-content/uploads/2024/09/Logo_frauenkirche.png
END:VEVENT
END:VCALENDAR