BEGIN:VCALENDAR
VERSION:2.0
PRODID:-//Politische Bildung für Sachsen - ECPv6.15.20//NONSGML v1.0//EN
CALSCALE:GREGORIAN
METHOD:PUBLISH
X-WR-CALNAME:Politische Bildung für Sachsen
X-ORIGINAL-URL:https://politische-bildung-sachsen.de
X-WR-CALDESC:Veranstaltungen für Politische Bildung für Sachsen
REFRESH-INTERVAL;VALUE=DURATION:PT1H
X-Robots-Tag:noindex
X-PUBLISHED-TTL:PT1H
BEGIN:VTIMEZONE
TZID:Europe/Berlin
BEGIN:DAYLIGHT
TZOFFSETFROM:+0100
TZOFFSETTO:+0200
TZNAME:CEST
DTSTART:20250330T010000
END:DAYLIGHT
BEGIN:STANDARD
TZOFFSETFROM:+0200
TZOFFSETTO:+0100
TZNAME:CET
DTSTART:20251026T010000
END:STANDARD
BEGIN:DAYLIGHT
TZOFFSETFROM:+0100
TZOFFSETTO:+0200
TZNAME:CEST
DTSTART:20260329T010000
END:DAYLIGHT
BEGIN:STANDARD
TZOFFSETFROM:+0200
TZOFFSETTO:+0100
TZNAME:CET
DTSTART:20261025T010000
END:STANDARD
BEGIN:DAYLIGHT
TZOFFSETFROM:+0100
TZOFFSETTO:+0200
TZNAME:CEST
DTSTART:20270328T010000
END:DAYLIGHT
BEGIN:STANDARD
TZOFFSETFROM:+0200
TZOFFSETTO:+0100
TZNAME:CET
DTSTART:20271031T010000
END:STANDARD
END:VTIMEZONE
BEGIN:VEVENT
DTSTART;TZID=Europe/Berlin:20260509T080000
DTEND;TZID=Europe/Berlin:20260509T160000
DTSTAMP:20260423T154650
CREATED:20251212T124509Z
LAST-MODIFIED:20251212T124509Z
UID:10002485-1778313600-1778342400@politische-bildung-sachsen.de
SUMMARY:Erfolgreiche Presse- und Öffentlichkeitsarbeit
DESCRIPTION:Sie stemmen gerade ein tolles Projekt oder planen eine besondere Veranstaltung? In ihrem Verein gab es Vorstandswahlen oder Sie haben einen Beschluss gefasst\, der auch für andere wichtig ist? Dann sollten die Menschen in ihrer Umgebung\, Partner und Journalisten auch davon wissen!\nIn diesem Seminar üben wir grundlegende Techniken und Methoden der Presse- und Öffentlichkeitsarbeit\, insbesondere das Schreiben von Pressemitteilungen. Aber wie funktioniert zielgruppengerechte Schreibe? Braucht es wirklich Edelfedern für gelingende PR? Und wie relevant sind Form und Versand? Darum soll es in diesem Seminar gehen. Zentral ist dabei\, über Anlässe für Medienmitteilungen nachzudenken und diese entsprechend zu formulieren bzw. vorgegebene Beispiele zu reformulieren. Schließlich gilt auch hier: Übung macht den Meister – und die Meisterin! \nInhalte:\n• Grundlagen der Presse- und Öffentlichkeitsarbeit\n• Analyse eigener und fremder PR-Texte\n• Techniken und Methoden kreativen Schreibens\n• Reflexion über Pressearbeit im Zeitalter von SM und KI \n\nSeminarleitung: Dana Ritzmann\, Dipl. Journalistin
URL:https://politische-bildung-sachsen.de/veranstaltung/erfolgreiche-presse-und-oeffentlichkeitsarbeit/
LOCATION:Herbert-Wehner-Bildungswerk für Kommunalpolitik e.V.\, Devrientstraße 7\, Dresden\, Sachsen\, 01067\, Deutschland
CATEGORIES:Seminar/Workshop
ATTACH;FMTTYPE=image/jpeg:https://politische-bildung-sachsen.de/wp-content/uploads/2023/06/HWB_KP.jpg
ORGANIZER;CN="Herbert-Wehner-Bildungswerk f%C3%BCr Kommunalpolitik e.V.":MAILTO:info@wehnerwerk.de
END:VEVENT
BEGIN:VEVENT
DTSTART;TZID=Europe/Berlin:20260527T170000
DTEND;TZID=Europe/Berlin:20260527T210000
DTSTAMP:20260423T154650
CREATED:20251217T130622Z
LAST-MODIFIED:20251217T130622Z
UID:10002493-1779901200-1779915600@politische-bildung-sachsen.de
SUMMARY:Rhetoriktraining
DESCRIPTION:Wer ehrenamtlich aktiv ist\, muss das 1x1 der Rhetorik beherrschen. Anhand konkreter Problemstellungen werden diese Grundlagen eingeübt und ein Mix an Techniken und Kniffen vermittelt. Die Kameraaufnahmen werden in Feedbackrunden ausgewertet. Dabei werden die eigene Körpersprache\, sprachliche Besonderheiten und die gewählte Argumentationslinie besonders unter die Lupe genommen. \nSeminarleiterin: Karin Pritzel\, Kommunikations- und Politikwissenschaftlerin (Dresden) \n\nmax. Teilnehmer:innenzahl: 7
URL:https://politische-bildung-sachsen.de/veranstaltung/rhetoriktraining-2/
LOCATION:Herbert-Wehner-Bildungswerk für Kommunalpolitik e.V.\, Devrientstraße 7\, Dresden\, Sachsen\, 01067\, Deutschland
CATEGORIES:Seminar/Workshop
ATTACH;FMTTYPE=image/jpeg:https://politische-bildung-sachsen.de/wp-content/uploads/2023/06/HWB_KP.jpg
ORGANIZER;CN="Herbert-Wehner-Bildungswerk f%C3%BCr Kommunalpolitik e.V.":MAILTO:info@wehnerwerk.de
END:VEVENT
BEGIN:VEVENT
DTSTART;TZID=Europe/Berlin:20260606T100000
DTEND;TZID=Europe/Berlin:20260606T160000
DTSTAMP:20260423T154650
CREATED:20251217T131044Z
LAST-MODIFIED:20251217T131044Z
UID:10002494-1780740000-1780761600@politische-bildung-sachsen.de
SUMMARY:Politik besser erklären – einfache Sprache in der Kommunalpolitik
DESCRIPTION:Wie erkläre ich politische Inhalte so\, dass möglichst viele Menschen sie verstehen?\nIn der kommunalpolitischen Arbeit ist die öffentliche Kommunikation entscheidend – ob als gewählte:r Mandatsträger:in\, als engagiertes Vereinsmitglied oder aktive:r Bürger:in. Doch komplexe Themen\, Fachbegriffe und politische Prozesse erschweren oft den Zugang.\nWir geben euch das nötige Handwerkszeug\, um politische Inhalte\, Statements und Positionen verständlich und zielgruppengerecht zu vermitteln – ob in Interviews\, Reden\, Social-Media-Posts oder im Gespräch mit den Menschen vor Ort. \nDas Seminar gibt einen tieferen Überblick zu Formen verständlicher Sprache und den aktuellen Handreichungen der DIN für leichte und einfache Sprache. Praxisnah werden einige sprachliche Empfehlungen mit vielen Formulierungsbeispielen vermittelt und ausprobiert. \n\nReferentin: Juliane Heidelberger\, Linguistin bei VERSO Dresden \n\nZielgruppe:\nDas Seminar richtet sich an Kommunalpolitikerinnen\, Vereinsaktive sowie Engagierte in Initiativen\, die ihre Kommunikation inklusiver und klarer gestalten möchten. \n\nMach Deine Botschaft sichtbar – und verständlich!
URL:https://politische-bildung-sachsen.de/veranstaltung/politik-besser-erklaeren-einfache-sprache-in-der-kommunalpolitik/
LOCATION:Herbert-Wehner-Bildungswerk für Kommunalpolitik e.V.\, Devrientstraße 7\, Dresden\, Sachsen\, 01067\, Deutschland
CATEGORIES:Seminar/Workshop
ATTACH;FMTTYPE=image/jpeg:https://politische-bildung-sachsen.de/wp-content/uploads/2023/06/HWB_KP.jpg
ORGANIZER;CN="Herbert-Wehner-Bildungswerk f%C3%BCr Kommunalpolitik e.V.":MAILTO:info@wehnerwerk.de
END:VEVENT
BEGIN:VEVENT
DTSTART;TZID=Europe/Berlin:20260613T100000
DTEND;TZID=Europe/Berlin:20260613T160000
DTSTAMP:20260423T154650
CREATED:20251217T131351Z
LAST-MODIFIED:20251217T131351Z
UID:10002495-1781344800-1781366400@politische-bildung-sachsen.de
SUMMARY:Social Media – Kommunikation in der Kommunalpolitik
DESCRIPTION:Ob bei der Moderation einer Vereinssitzung oder bei der Präsentation einer Gruppenarbeit: Visualisierung hilft\, Inhalte greifbar und leichter merkbar zu machen. \nAnhand vieler Beispiele vermittelt das Seminar\, welches Handwerkszeug für die visuelle Kommunikation am Flipchart gebraucht wird. Im Seminar lernt ihr die gängigen Symbole kennen und übt diese zu zeichnen. Am Ende könnt ihr so den ersten Schritt zu einem eigenen Bildvokabular gehen. \n\nReferentin: Ellen Schäpsmeier\, Kommunikationsexpertin
URL:https://politische-bildung-sachsen.de/veranstaltung/social-media-kommunikation-in-der-kommunalpolitik/
LOCATION:Herbert-Wehner-Bildungswerk für Kommunalpolitik e.V.\, Devrientstraße 7\, Dresden\, Sachsen\, 01067\, Deutschland
CATEGORIES:Seminar/Workshop
ATTACH;FMTTYPE=image/jpeg:https://politische-bildung-sachsen.de/wp-content/uploads/2023/06/HWB_KP.jpg
ORGANIZER;CN="Herbert-Wehner-Bildungswerk f%C3%BCr Kommunalpolitik e.V.":MAILTO:info@wehnerwerk.de
END:VEVENT
BEGIN:VEVENT
DTSTART;TZID=Europe/Berlin:20261028T170000
DTEND;TZID=Europe/Berlin:20261028T210000
DTSTAMP:20260423T154650
CREATED:20251217T142140Z
LAST-MODIFIED:20251217T142140Z
UID:10002508-1793206800-1793221200@politische-bildung-sachsen.de
SUMMARY:Rhetoriktraining für Frauen
DESCRIPTION:Haben es Frauen schwerer\, sich in der Öffentlichkeit und in der Politik zu präsentieren bzw. durchzusetzen? Wenn ja\, warum? Zumindest sind sie doch – im Alltag – oft viel kommunikativer als Männer. Wie Sie diesen Vorteil auch auf der politischen Bühne\, in Vereinen und Parteien für sich nutzen können\, wird in diesem Rhetorikseminar – ausschließlich unter Frauen – mit Hilfe der Kamera und Videoaufzeichnungen geübt. \nSeminarleiterin: Karin Pritzel\, Kommunikations- und Politikwissenschaftlerin (Dresden) \n\nmax. Teilnehmer:innenzahl: 7
URL:https://politische-bildung-sachsen.de/veranstaltung/rhetoriktraining-fuer-frauen/
LOCATION:Herbert-Wehner-Bildungswerk für Kommunalpolitik e.V.\, Devrientstraße 7\, Dresden\, Sachsen\, 01067\, Deutschland
CATEGORIES:Seminar/Workshop
ATTACH;FMTTYPE=image/jpeg:https://politische-bildung-sachsen.de/wp-content/uploads/2023/06/HWB_KP.jpg
ORGANIZER;CN="Herbert-Wehner-Bildungswerk f%C3%BCr Kommunalpolitik e.V.":MAILTO:info@wehnerwerk.de
END:VEVENT
BEGIN:VEVENT
DTSTART;TZID=Europe/Berlin:20261114T100000
DTEND;TZID=Europe/Berlin:20261114T170000
DTSTAMP:20260423T154650
CREATED:20251212T114424Z
LAST-MODIFIED:20260316T144427Z
UID:10002511-1794650400-1794675600@politische-bildung-sachsen.de
SUMMARY:Fit am Flipchart - Moderation per Bild
DESCRIPTION:Bilder sagen oft mehr als Worte – und sie bleiben länger im Gedächtnis. \nOb bei der Moderation einer Sitzung\, eines Workshops\, bei Präsentationen oder in der Teamberatung: Visualisierung hilft\, Inhalte greifbar und leichter merkbar zu machen. Und das Beste: Dafür braucht es absolut kein künstlerisches Talent. Anhand vieler Beispiele vermittelt das Seminar\, welches Handwerkszeug für die visuelle Kommunikation am Flipchart gebraucht wird. Im Seminar lernt ihr die gängigen Symbole kennen und übt diese zu zeichnen. Am Ende könnt ihr so den ersten Schritt zu einem eigenen Bildvokabular gehen. \n\nReferentin: Liane Hoder\, Graphic Recording\, Visual Facilitation\, Illustratio
URL:https://politische-bildung-sachsen.de/veranstaltung/graphic-recording-visualisieren-fuer-moderation-und-praesentation-2/2026-11-14/
LOCATION:Herbert-Wehner-Bildungswerk für Kommunalpolitik e.V.\, Devrientstraße 7\, Dresden\, Sachsen\, 01067\, Deutschland
CATEGORIES:Seminar/Workshop
ATTACH;FMTTYPE=image/jpeg:https://politische-bildung-sachsen.de/wp-content/uploads/2023/06/HWB_KP.jpg
ORGANIZER;CN="Herbert-Wehner-Bildungswerk f%C3%BCr Kommunalpolitik e.V.":MAILTO:info@wehnerwerk.de
END:VEVENT
END:VCALENDAR