BEGIN:VCALENDAR
VERSION:2.0
PRODID:-//Politische Bildung für Sachsen - ECPv6.15.20//NONSGML v1.0//EN
CALSCALE:GREGORIAN
METHOD:PUBLISH
X-ORIGINAL-URL:https://politische-bildung-sachsen.de
X-WR-CALDESC:Veranstaltungen für Politische Bildung für Sachsen
REFRESH-INTERVAL;VALUE=DURATION:PT1H
X-Robots-Tag:noindex
X-PUBLISHED-TTL:PT1H
BEGIN:VTIMEZONE
TZID:Europe/Berlin
BEGIN:DAYLIGHT
TZOFFSETFROM:+0100
TZOFFSETTO:+0200
TZNAME:CEST
DTSTART:20240331T010000
END:DAYLIGHT
BEGIN:STANDARD
TZOFFSETFROM:+0200
TZOFFSETTO:+0100
TZNAME:CET
DTSTART:20241027T010000
END:STANDARD
BEGIN:DAYLIGHT
TZOFFSETFROM:+0100
TZOFFSETTO:+0200
TZNAME:CEST
DTSTART:20250330T010000
END:DAYLIGHT
BEGIN:STANDARD
TZOFFSETFROM:+0200
TZOFFSETTO:+0100
TZNAME:CET
DTSTART:20251026T010000
END:STANDARD
BEGIN:DAYLIGHT
TZOFFSETFROM:+0100
TZOFFSETTO:+0200
TZNAME:CEST
DTSTART:20260329T010000
END:DAYLIGHT
BEGIN:STANDARD
TZOFFSETFROM:+0200
TZOFFSETTO:+0100
TZNAME:CET
DTSTART:20261025T010000
END:STANDARD
END:VTIMEZONE
BEGIN:VEVENT
DTSTART;VALUE=DATE:20251012
DTEND;VALUE=DATE:20251016
DTSTAMP:20260423T141511
CREATED:20241115T113331Z
LAST-MODIFIED:20241115T113331Z
UID:10002072-1760227200-1760572799@politische-bildung-sachsen.de
SUMMARY:KARLSRUHE & STUTTGART Zwischen Rechtsprechung und Rechtsbruch
DESCRIPTION:Der Name Karlsruhe ist untrennbar verbunden mit dem Bundesverfassungsgericht. Vor Ort informieren wir uns über die Arbeit des höchsten Gerichts. In Stuttgart widmen wir uns u.a. dem umstrittenen Milliardenprojekt „Stuttgart 21“. Das gesamte Vorhaben führte zu hohen Vertrauensverlusten in der Bevölkerung. Neben dem Berliner Flughafen ist dieses Projekt ein Symbol für Ressourcenverschwendung und Fehlplanung geworden. Wir fragen nach den Ursachen und sehen uns die Baustelle an. \n\nVorläufiges Programm \nTag 1: Demokratie und Rechtsprechung ab Dresden \n\nAnreise nach Karlsruhe\nhistorisch-politischer Stadtrundgang: Orte des Rechts und der Demokratie\nTag 2: Rechtsprechung in Karlsruhe\nBesuch und Führung im Bundesverfassungsgericht\nBesuch der ARD-Rechtsredaktion\nBesuch des Rechtshistorischen Museums\n\nTag 3: Stuttgart \n\nEinführung in den Themenkomplex „Stuttgart 21“\nFührung um die Baustelle mit dem Aktionsbündnis gegen Stuttgart 21\nGespräch mit Juristen und Sprecher:innenn des Aktionsbündnis Stuttgart 21\n\nTag 4: Demokratiekonzepte in Karlsruhe \n\nGespräch mit dem Bündnis für Demokratie und Menschenrechte Karlsruhe\nRückfahrt nach Dresden\n\n\nUnterkunft: B&B HOTEL Karlsruhe Schwarzwaldstraße 92\, 76137 Karlsruhe\nDie Bildungsreise startet und endet in Dresden\, Zustiege entlang der Fahrtroute sind auf Anfrage möglich. Auch die eigene Anreise ist möglich. Kommen Sie gern auf uns zu! \nAnmeldung
URL:https://politische-bildung-sachsen.de/veranstaltung/karlsruhe-stuttgart-zwischen-rechtsprechung-und-rechtsbruch/
LOCATION:Herbert-Wehner-Bildungswerk\, Devrientstraße 7\, Dresden\, Sachsen\, 01067\, Deutschland
CATEGORIES:Bildungsfahrt/Gedenkstättenfahrt
ATTACH;FMTTYPE=image/jpeg:https://politische-bildung-sachsen.de/wp-content/uploads/2023/07/HWB.jpg
ORGANIZER;CN="Herbert-Wehner-Bildungswerk e.V.":MAILTO:info@wehnerwerk.de
END:VEVENT
BEGIN:VEVENT
DTSTART;VALUE=DATE:20250926
DTEND;VALUE=DATE:20250928
DTSTAMP:20260423T141511
CREATED:20241113T110225Z
LAST-MODIFIED:20250620T100612Z
UID:10002065-1758844800-1759017599@politische-bildung-sachsen.de
SUMMARY:SÄCHSISCHE SCHWEIZ Herausforderungen für den Nationalpark
DESCRIPTION:!!! Achtung Veranstaltung fällt aus !!! \nNicht nur Caspar David Friedrich oder Richard Wagner waren angetan von der schroffen Schönheit der Sächsischen Schweiz. Auf unser Erkundungstour nehmen wir aber das Kritische in den Blick. Wie viele Wanderrouten und Waldbrände vertragen der Wald und die Felsen? Kann der Protest von Anwohnern gegen ZUVIEL Tourismus erfolgreich sein und welche rechtsextremen Ideologien existieren unter dem Dach von Naturschutzbewegungen? Wie bereiten sich die Menschen vor Ort vor den nächsten Jahrhunderthochwassern vor\, die mit Sicherheit kommen werden? Sie sind Folge des Klimawandels\, der vor der AfD geleugnet wird – die Partei gewann in der Sächsischen Schweiz bei den letzten Wahlen mit hohen Ergebnissen. \n\nVorläufiges Programm \nTag 1: Naturschutz und der Tourismus \n\nAnreise\nBesuch im Rathaus Bad Schandau und Gespräch zur politischen Situation\ngeführte Wanderung durch den Nationalpark Sächsische Schweiz\nGespräch mit der Nationalparkverwaltung: Dilemma zwischen Tourismusförderung und Naturschutz für den Wald\n\nTag 2: Naturschutz und Bürgerinitiativen \n\nGespräch: Bürgerinitiativen für Rückbau von Wanderouten im Nationalpark\nKritische Betrachtung zum Rechtsextremismus im Naturschutz\nRückfahrt nach Dresden\n\n\nUnterkunft: Hotel Erbgericht Bächelweg 4\, 01814 Bad Schandau – Krippen\nDie Reise startet und endet in Dresden\, Zustiege entlang der Fahrtroute sind auf Anfrage möglich. Auch die eigene Anreise ist möglich. Kommen Sie gern auf uns zu! \nAnmeldung
URL:https://politische-bildung-sachsen.de/veranstaltung/saechsische-schweiz-herausforderungen-fuer-den-nationalpark/
LOCATION:Herbert-Wehner-Bildungswerk\, Devrientstraße 7\, Dresden\, Sachsen\, 01067\, Deutschland
CATEGORIES:Bildungsfahrt/Gedenkstättenfahrt
ATTACH;FMTTYPE=image/jpeg:https://politische-bildung-sachsen.de/wp-content/uploads/2023/07/HWB.jpg
ORGANIZER;CN="Herbert-Wehner-Bildungswerk e.V.":MAILTO:info@wehnerwerk.de
END:VEVENT
BEGIN:VEVENT
DTSTART;TZID=Europe/Berlin:20250925T160000
DTEND;TZID=Europe/Berlin:20250925T200000
DTSTAMP:20260423T141511
CREATED:20250716T103514Z
LAST-MODIFIED:20250716T103514Z
UID:10002291-1758816000-1758830400@politische-bildung-sachsen.de
SUMMARY:Onboarding-Prozesse aktiv gestalten (25030)
DESCRIPTION:Wie gestalten wir den Einstieg für neue Mitarbeiter:innen oder Praktikant:innen in unserem Verein oder Verband so\, dass sich alle Beteiligten von Anfang an gut\, sicher und wertgeschätzt fühlen? Das Seminar richtet sich ans Haupt- wie auch ans Ehrenamt. Es vermittelt die drei Phasen des Onboarding-Prozesses\, die letztlich ein guter Fahrplan sowohl für die Neuen an Bord als auch das bestehende Team sind. Wie immer sind bei uns die Teilnehmenden in Arbeitsgruppenphasen selbst gefragt. \nSeminarleitung:\nDaniela Saaro\, Trainerin der politischen Bildung \n45\,- € für Hauptamtliche\n25\,- € für Ehrenamtliche & Mitglieder im Freundeskreis Herbert-Wehner-Bildungswerk
URL:https://politische-bildung-sachsen.de/veranstaltung/onboarding-prozesse-aktiv-gestalten-25030/
LOCATION:Herbert-Wehner-Bildungswerk\, Devrientstraße 7\, Dresden\, Sachsen\, 01067\, Deutschland
CATEGORIES:Seminar/Workshop
ATTACH;FMTTYPE=image/jpeg:https://politische-bildung-sachsen.de/wp-content/uploads/2023/07/HWB.jpg
ORGANIZER;CN="Herbert-Wehner-Bildungswerk e.V.":MAILTO:info@wehnerwerk.de
END:VEVENT
BEGIN:VEVENT
DTSTART;VALUE=DATE:20250915
DTEND;VALUE=DATE:20250918
DTSTAMP:20260423T141511
CREATED:20241113T105854Z
LAST-MODIFIED:20241113T110242Z
UID:10002064-1757894400-1758153599@politische-bildung-sachsen.de
SUMMARY:ROSTOCK & GREIFSWALD Extremismus und Zivilgesellschaft
DESCRIPTION:Mecklenburg-Vorpommern ist leider nicht nur Ostsee und Tourismus. Die rechtsextremen Ausschreitungen in Rostock-Lichtenhagen 1992 haben tiefe Spuren hinterlassen. Da stellt sich vor dem Hintergrund der anstehenden Bundestagswahl die Frage\, wie sich die Gesellschaft seitdem vor Ort verändert hat. In Greifswald lernen wir in der Redaktion von KATAPULT innovativen Journalismus kennen. Und wir fragen Kommunalpolitiker:innen vor dem Hintergrund einer immer älter werdenden Bevölkerung\, welche Zukunft sie für die Region sehen. \n\nVorläufiges Programm \nTag 1: Zivilgesellschaft in Greifswald \n\nAnreise\nBesuch und Gespräch in der Redaktion des KATAPULTMagazins\npolitisch-historische Stadtführung durch Greifswald\nTransfer nach Rostock zur Unterkunft\n\nTag 2: Rostock-Lichtenhagen \n\nWorkshop: Lichtenhagen im Gedächtnis\nHistorisch-politische Führung in Rostock-Lichtenhagen\nFrauenpolitischer Stadtrundgang\n\nTag 3: Rostock und der Fußball \n\nVereinsleben und Wehrhafte Demokratie – Vorstellung des IFC’s Rostock e.V.\n\nGespräch mit einem Mitglied des Stadtrats zu aktuellen Herausforderungen der Stadt z.B. Anpassungsstrategien an den Klimawandel\, Rückfahrt nach Dresden\n\n\nUnterkunft: Hotel Sportforum Kopernikusstraße 17 A\, 18057 Rostock\nDie Reise startet und endet in Dresden\, Zustiege entlang der Fahrtroute sind auf Anfrage möglich. Auch die eigene Anreise ist möglich. Kommen Sie gern auf uns zu! \nAnmeldung
URL:https://politische-bildung-sachsen.de/veranstaltung/rostock-greifswald-extremismus-und-zivilgesellschaft/
LOCATION:Herbert-Wehner-Bildungswerk\, Devrientstraße 7\, Dresden\, Sachsen\, 01067\, Deutschland
CATEGORIES:Bildungsfahrt/Gedenkstättenfahrt
ATTACH;FMTTYPE=image/jpeg:https://politische-bildung-sachsen.de/wp-content/uploads/2023/07/HWB.jpg
ORGANIZER;CN="Herbert-Wehner-Bildungswerk e.V.":MAILTO:info@wehnerwerk.de
END:VEVENT
BEGIN:VEVENT
DTSTART;VALUE=DATE:20250905
DTEND;VALUE=DATE:20250907
DTSTAMP:20260423T141511
CREATED:20241113T105409Z
LAST-MODIFIED:20250626T071450Z
UID:10002063-1757030400-1757203199@politische-bildung-sachsen.de
SUMMARY:CHEMNITZ DDR-Geschichte: Frauengefängnis Hoheneck & Innovation Kulturhauptstadt 2025
DESCRIPTION:35 Jahre nach dem Fall der Mauer nähern wir uns einem dunklen Kapitel der DDR-Geschichte. Wir besuchen die 2024 neu eröffnete Gedenkstätte Hoheneck. Hier waren Frauen u.a. auch als politische Gefangene inhaftiert. In Chemnitz erfahren wir\, wie wichtig auch heute noch die Aufarbeitung der Stasi-Akten ist. Dabei beleuchten wir\, welchen Stellenwert politische Teilhabe und Menschenrechte in Diktaturen hatten. Im großen Gegensatz dazu steht die politische Mitgestaltung und Demokratieförderung im Kulturhauptstadtjahr 2025\, die wir ebenfalls in den Blick nehmen. \n\nVorläufiges Programm \nTag 1: Überwachung & Verfolgung – Chemnitz & Hoheneck \n\n7:00 Uhr Start im Herbert-Wehner-Haus\, Dresden\nZustieg in Nossen\, Siebenlehn und Hainichen möglich\nAnreise\nBesuch Stasi-Unterlagen-Archiv Chemnitz\nBesuch und Führung durch die Gedenkstätte Frauengefängnis Hoheneck\nGespräch mit der Stadtverwaltung zur öffentlichen Außendarstellung der Gedenkstätte\n\nTag 2: Macher:innen der Kulturhauptstadt 2025 \n\nGespräch mit Bürgerverein FUER CHEMNITZ e.V.\nRundgang im Dokumentationszentrum zum NSU-Komplex mit Schwerpunkt: Rolle des Verfassungsschutz\nRückfahrt nach Dresden über Nossen\, Siebenlehn und Hainichen\n\n\nUnterkunft: Congress Hotel\, Brückenstr. 19\, 09111 Chemnitz\nDie Reise startet und endet in Dresden\, Zustiege entlang der Fahrtroute sind auf Anfrage möglich. Auch die eigene Anreise ist möglich. Kommen Sie gern auf uns zu! \n  \nAnmeldung
URL:https://politische-bildung-sachsen.de/veranstaltung/chemnitz-ddr-geschichte-frauengefaengnis-hoheneck-innovation-kulturhauptstadt-2025/
LOCATION:Herbert-Wehner-Bildungswerk\, Devrientstraße 7\, Dresden\, Sachsen\, 01067\, Deutschland
CATEGORIES:Bildungsfahrt/Gedenkstättenfahrt
ATTACH;FMTTYPE=image/jpeg:https://politische-bildung-sachsen.de/wp-content/uploads/2023/07/HWB.jpg
ORGANIZER;CN="Herbert-Wehner-Bildungswerk e.V.":MAILTO:info@wehnerwerk.de
END:VEVENT
END:VCALENDAR