BEGIN:VCALENDAR
VERSION:2.0
PRODID:-//Politische Bildung für Sachsen - ECPv6.15.20//NONSGML v1.0//EN
CALSCALE:GREGORIAN
METHOD:PUBLISH
X-ORIGINAL-URL:https://politische-bildung-sachsen.de
X-WR-CALDESC:Veranstaltungen für Politische Bildung für Sachsen
REFRESH-INTERVAL;VALUE=DURATION:PT1H
X-Robots-Tag:noindex
X-PUBLISHED-TTL:PT1H
BEGIN:VTIMEZONE
TZID:Europe/Berlin
BEGIN:DAYLIGHT
TZOFFSETFROM:+0100
TZOFFSETTO:+0200
TZNAME:CEST
DTSTART:20250330T010000
END:DAYLIGHT
BEGIN:STANDARD
TZOFFSETFROM:+0200
TZOFFSETTO:+0100
TZNAME:CET
DTSTART:20251026T010000
END:STANDARD
BEGIN:DAYLIGHT
TZOFFSETFROM:+0100
TZOFFSETTO:+0200
TZNAME:CEST
DTSTART:20260329T010000
END:DAYLIGHT
BEGIN:STANDARD
TZOFFSETFROM:+0200
TZOFFSETTO:+0100
TZNAME:CET
DTSTART:20261025T010000
END:STANDARD
BEGIN:DAYLIGHT
TZOFFSETFROM:+0100
TZOFFSETTO:+0200
TZNAME:CEST
DTSTART:20270328T010000
END:DAYLIGHT
BEGIN:STANDARD
TZOFFSETFROM:+0200
TZOFFSETTO:+0100
TZNAME:CET
DTSTART:20271031T010000
END:STANDARD
END:VTIMEZONE
BEGIN:VEVENT
DTSTART;TZID=Europe/Berlin:20260424T170000
DTEND;TZID=Europe/Berlin:20260426T140000
DTSTAMP:20260422T122439
CREATED:20260223T090717Z
LAST-MODIFIED:20260223T090717Z
UID:10002540-1777050000-1777212000@politische-bildung-sachsen.de
SUMMARY:Get organized! Organizing-Methoden in der Fläche anwenden.
DESCRIPTION:Reihe: Skills für politisch Aktive \nAn diesem Wochenende werden wir uns gemeinsam auf den Weg machen\, auf die Frage "wo sind die Haustüren auf dem Land" Antworten zu finden. Organizing als Praxis und Methodenkoffer wurde in Deutschland in überwiegend städtischen Kontexten – ob Gewerkschaften\, Nachbarschaften oder in sozialen Bewegungen – systematisiert. Organisierungsprozesse gibt es aber schon immer auch im kleinstädtischen und ländlichen Raum. \nDeshalb wollen wir unsere Erfahrungen zusammentragen und ergründen: Welche besonderen Herausforderungen erwarten uns in weniger dicht besiedelten Regionen\, an denen etablierte Methoden bisher zu kurz greifen? Wie bauen wir tragfähige Beziehungen an Orten auf\, an denen die Anzahl der Initiativen und Haustüren endlich ist? Und wie stellen wir im ländlichen Raum erklär- und erfahrbar den Bezug zwischen lokalen Themen und globalen Kämpfen dar? \nUm gemeinsam auf die Suche gehen zu können\, werden wir uns zunächst ein geteiltes Verständnis erarbeiten\, was Community Organizing ausmacht und für uns bedeutet. Außerdem widmen wir uns der Methode der interessenorientierten Beziehungsgespräche als Alternativentwurf zu Haustürgesprächen. Im Dialog mit linken Organisierungen vor Ort (angefragt) und basierend auf unseren Erfahrungen tragen wir im Anschluss zusammen\, welche weiteren methodischen Ansätze außerhalb von Großstädten zielführend sein können\, um kollektiv transformative Prozesse zu starten und zu gestalten. \n  \n\nDatum \nFreitag\, 24. April 2026\, 17 Uhr\, bis Sonntag\, 26. April 2024\, 13 Uhr \nDie Anreise ist am Freitag ab 16 Uhr möglich. \n  \n\nZielgruppe \nUnser Wochenendseminar ist offen für alle\, die schon politisch aktiv sind oder es werden wollen. \n  \n\nReferent \nOle Reichardt arbeitet seit 2020 als Community Organizer. Neben dem Aufbau einer Nachbarschaftsorganisierung begleitete er unter anderem Kampagnen zu Antidiskriminierung und in der Mietenbewegung. Als ausgebildeter Ethnologe ist es ihm ein besonderes Anliegen\, möglichst unterschiedliche Gruppen und Menschen in Organisierungsprozesse mit einzubeziehen. Organizing begreift er dabei vor allem als sehr hilfreichen Methodenkoffer\, um inklusive und transformative Gruppenprozesse zu gestalten und Machtstrukturen begreifbar und veränderbar zu machen. \n  \n\nTeilnahmebeitrag \nDer Teilnahmebeitrag beinhaltet die Übernachtung in Doppelzimmern\, Vollverpflegung und Programm. \n\n40 Euro ermäßigt*\n80 Euro regulär*\n120 Euro ermöglichend*\n\n*Nach Selbsteinschätzung der Teilnehmenden. \n  \n\nAnmeldung \nBitte gebt bei der Anmeldung an: \n\neuren vollständigen Namen und Wohnort\nwelchen Teilnahmebeitrag ihr zahlt\n1-2 Sätze dazu\, in welchen Kontexten ihr politisch aktiv seid oder werden wollt\n\nEure Anmeldung mit den vollständigen Angaben schickt ihr bitte an an*******@*************en.de \n  \n\nWeitere geplante Termine der Reihe "Skills für politisch aktive Menschen": \n\nSeptember 2026 (genauere Infos folgen)\nNovember 2026 (genauere Infos folgen)\n\n  \n\n* Diese Maßnahme wird mitfinanziert durch Steuermittel auf der Grundlage des vom Sächsischen Landtag beschlossenen Haushaltes. Sie findet in Kooperation mit der Rosa-Luxemburg-Stiftung. Gesellschaftsanalyse und politische Bildung e.V. statt.
URL:https://politische-bildung-sachsen.de/veranstaltung/get-organized-organizing-methoden-in-der-flaeche-anwenden/
LOCATION:Jugendherberge Görlitz Altstadt\, Peterstraße 15\, Görlitz\, 02825
CATEGORIES:Fort- & Weiterbildung,Seminar/Workshop
ATTACH;FMTTYPE=image/jpeg:https://politische-bildung-sachsen.de/wp-content/uploads/2023/05/Logo_RLS.jpg
ORGANIZER;CN="Rosa-Luxemburg-Stiftung Sachsen e.V.":MAILTO:info@rosalux-sachsen.de
END:VEVENT
END:VCALENDAR