BEGIN:VCALENDAR
VERSION:2.0
PRODID:-//Politische Bildung für Sachsen - ECPv6.15.20//NONSGML v1.0//EN
CALSCALE:GREGORIAN
METHOD:PUBLISH
X-WR-CALNAME:Politische Bildung für Sachsen
X-ORIGINAL-URL:https://politische-bildung-sachsen.de
X-WR-CALDESC:Veranstaltungen für Politische Bildung für Sachsen
REFRESH-INTERVAL;VALUE=DURATION:PT1H
X-Robots-Tag:noindex
X-PUBLISHED-TTL:PT1H
BEGIN:VTIMEZONE
TZID:Europe/Berlin
BEGIN:DAYLIGHT
TZOFFSETFROM:+0100
TZOFFSETTO:+0200
TZNAME:CEST
DTSTART:20240331T010000
END:DAYLIGHT
BEGIN:STANDARD
TZOFFSETFROM:+0200
TZOFFSETTO:+0100
TZNAME:CET
DTSTART:20241027T010000
END:STANDARD
BEGIN:DAYLIGHT
TZOFFSETFROM:+0100
TZOFFSETTO:+0200
TZNAME:CEST
DTSTART:20250330T010000
END:DAYLIGHT
BEGIN:STANDARD
TZOFFSETFROM:+0200
TZOFFSETTO:+0100
TZNAME:CET
DTSTART:20251026T010000
END:STANDARD
BEGIN:DAYLIGHT
TZOFFSETFROM:+0100
TZOFFSETTO:+0200
TZNAME:CEST
DTSTART:20260329T010000
END:DAYLIGHT
BEGIN:STANDARD
TZOFFSETFROM:+0200
TZOFFSETTO:+0100
TZNAME:CET
DTSTART:20261025T010000
END:STANDARD
END:VTIMEZONE
BEGIN:VEVENT
DTSTART;TZID=Europe/Berlin:20251016T160000
DTEND;TZID=Europe/Berlin:20251016T190000
DTSTAMP:20260425T154148
CREATED:20250716T104936Z
LAST-MODIFIED:20250716T104936Z
UID:10002293-1760630400-1760641200@politische-bildung-sachsen.de
SUMMARY:Miteinander ins Gespräch kommen – Wer hat Recht? // Annaberg-Buchholz
DESCRIPTION:Wer kennt das nicht? Gespräche\, die plötzlich eskalieren: Der Klimawandel sei nur Panikmache\, die Medien würden systematisch lügen\, Migration sei Teil eines geheimen Plans – und hinter all dem steckten „die da oben“. Solche Diskussionen begegnen uns im Familienkreis\, unter Freund:innen oder am Arbeitsplatz – und enden oft in Frust\, Rückzug oder offenen Konflikten. Doch warum sind diese Erzählungen so wirkungsmächtig? Warum scheint es so schwer\, miteinander im Gespräch zu bleiben – gerade wenn sich die Frage „Wer hat Recht?“ so verhärtet stellt? \nIn unserem Einführungsworkshop zu Verschwörungserzählungen wollen wir gemeinsam hinschauen: \n\nWas macht solche Narrative so attraktiv?\nWie funktionieren sie – und woran erkennt man sie?\nUnd vor allem: Wie können wir damit umgehen\, ohne Gespräche gleich ganz aufzugeben?\n\nWir vermitteln Hintergründe und geben euch Strategien an die Hand\, um auch in schwierigen Situationen handlungsfähig zu bleiben – und das Gespräch nicht ganz zu verlieren. \n\nReferentin:\nPaula Salomo\, freie Trainerin – Gesellschaftliche Vielfalt und Prozessmoderation
URL:https://politische-bildung-sachsen.de/veranstaltung/miteinander-ins-gespraech-kommen-wer-hat-recht-annaberg-buchholz/
LOCATION:Kulturzentrum Erzhammer\, Buchholzer Str. 2\, Annaberg-Buchholz\, Sachsen\, 09456
CATEGORIES:Seminar/Workshop
ATTACH;FMTTYPE=image/jpeg:https://politische-bildung-sachsen.de/wp-content/uploads/2023/07/HWB.jpg
ORGANIZER;CN="Herbert-Wehner-Bildungswerk e.V.":MAILTO:info@wehnerwerk.de
END:VEVENT
END:VCALENDAR