BEGIN:VCALENDAR
VERSION:2.0
PRODID:-//Politische Bildung für Sachsen - ECPv6.15.20//NONSGML v1.0//EN
CALSCALE:GREGORIAN
METHOD:PUBLISH
X-WR-CALNAME:Politische Bildung für Sachsen
X-ORIGINAL-URL:https://politische-bildung-sachsen.de
X-WR-CALDESC:Veranstaltungen für Politische Bildung für Sachsen
REFRESH-INTERVAL;VALUE=DURATION:PT1H
X-Robots-Tag:noindex
X-PUBLISHED-TTL:PT1H
BEGIN:VTIMEZONE
TZID:Europe/Berlin
BEGIN:DAYLIGHT
TZOFFSETFROM:+0100
TZOFFSETTO:+0200
TZNAME:CEST
DTSTART:20240331T010000
END:DAYLIGHT
BEGIN:STANDARD
TZOFFSETFROM:+0200
TZOFFSETTO:+0100
TZNAME:CET
DTSTART:20241027T010000
END:STANDARD
BEGIN:DAYLIGHT
TZOFFSETFROM:+0100
TZOFFSETTO:+0200
TZNAME:CEST
DTSTART:20250330T010000
END:DAYLIGHT
BEGIN:STANDARD
TZOFFSETFROM:+0200
TZOFFSETTO:+0100
TZNAME:CET
DTSTART:20251026T010000
END:STANDARD
BEGIN:DAYLIGHT
TZOFFSETFROM:+0100
TZOFFSETTO:+0200
TZNAME:CEST
DTSTART:20260329T010000
END:DAYLIGHT
BEGIN:STANDARD
TZOFFSETFROM:+0200
TZOFFSETTO:+0100
TZNAME:CET
DTSTART:20261025T010000
END:STANDARD
END:VTIMEZONE
BEGIN:VEVENT
DTSTART;TZID=Europe/Berlin:20251128T180000
DTEND;TZID=Europe/Berlin:20251129T180000
DTSTAMP:20260425T060150
CREATED:20251006T141809Z
LAST-MODIFIED:20251118T100836Z
UID:10002425-1764352800-1764439200@politische-bildung-sachsen.de
SUMMARY:Organisieren\, um zu gewinnen: wie geht es weiter?
DESCRIPTION:In den letzten Wahlen waren Haustürbesuche für demokratische Parteien ein wichtiger und erfolgreicher Schritt. Diese Besuche und die erfolgte Stadtteilarbeit haben zugleich zu einem deutlichen Zuwachs von Aktiven\, Mitgliedern und Freund*innen beigetragen. Aus der Perspektive von Basisbewegungen sehen wir in Berlin\, wie die Kampagne Deutsche Wohnen enteignen mit Organizing schlagkräftig wurde und bis heute weiter wächst. \nIm Transformativen Community Organizing – getragen von vielen kleinen und großen Gruppen von Betroffenen – wird bewusst eine Antwort auf den neoliberalen Generalangriff auf die Arbeits- und Lebensbedingungen der Mehrheit der Menschen formuliert. Mit den Ansätzen eines Community Organizings Politik zu machen\, bedeutet langfristige (Selbst-)Organisierung anzustoßen und dazu beizutragen\, die gesellschaftlichen Verhältnisse zu verschieben\, zu lernen\, zuzuhören und politische Konfrontationen verbal\, fröhlich-offensiv zu führen. \nZiel des Workshops ist nicht nur ein kompakter Einblick in die Methoden des Community Organizing zu bekommen\, sondern konkret an einer Zukunftsperspektive und Organisationsplanung zu arbeiten. Wie kann eine Botschaft mit wenigen Sätzen vermittelt werden\, wie baue ich eine nachhaltige Stadtteil- und Basisorganisation auf und welche (finanziellen und strukturellen) Notwendigkeiten und Analysen sind dabei unerlässlich? Der Transfer in euren konkreten politischen Alltag wird durch ausgeprägte Übungsphasen gesichert. \nFür die Teilnahme am Workshop ist eine Anmeldung erforderlich. \n  \n\nReferent \nRico Rokitte (Organizer und Wissenschaftler) \n  \n\nAnmeldung \nper E-Mail an an*******@*************en.de \n  \n\nVeranstaltungsort \nLeipzig-Ost - der genaue Ort wird nach der Anmeldung bekannt gegeben. \n\nDiese Maßnahme wird mitfinanziert durch Steuermittel auf der Grundlage des vom Sächsischen Landtag beschlossenen Haushaltes
URL:https://politische-bildung-sachsen.de/veranstaltung/organisieren-um-zu-gewinnen-wie-geht-es-weiter/
LOCATION:Ladenlokal der Falken\, Dimpfelstraße 33\, Leipzig\, 04347
CATEGORIES:Seminar/Workshop
ATTACH;FMTTYPE=image/jpeg:https://politische-bildung-sachsen.de/wp-content/uploads/2023/05/Logo_RLS.jpg
ORGANIZER;CN="Rosa-Luxemburg-Stiftung Sachsen e.V.":MAILTO:info@rosalux-sachsen.de
END:VEVENT
END:VCALENDAR