BEGIN:VCALENDAR
VERSION:2.0
PRODID:-//Politische Bildung für Sachsen - ECPv6.15.20//NONSGML v1.0//EN
CALSCALE:GREGORIAN
METHOD:PUBLISH
X-ORIGINAL-URL:https://politische-bildung-sachsen.de
X-WR-CALDESC:Veranstaltungen für Politische Bildung für Sachsen
REFRESH-INTERVAL;VALUE=DURATION:PT1H
X-Robots-Tag:noindex
X-PUBLISHED-TTL:PT1H
BEGIN:VTIMEZONE
TZID:Europe/Berlin
BEGIN:DAYLIGHT
TZOFFSETFROM:+0100
TZOFFSETTO:+0200
TZNAME:CEST
DTSTART:20240331T010000
END:DAYLIGHT
BEGIN:STANDARD
TZOFFSETFROM:+0200
TZOFFSETTO:+0100
TZNAME:CET
DTSTART:20241027T010000
END:STANDARD
BEGIN:DAYLIGHT
TZOFFSETFROM:+0100
TZOFFSETTO:+0200
TZNAME:CEST
DTSTART:20250330T010000
END:DAYLIGHT
BEGIN:STANDARD
TZOFFSETFROM:+0200
TZOFFSETTO:+0100
TZNAME:CET
DTSTART:20251026T010000
END:STANDARD
BEGIN:DAYLIGHT
TZOFFSETFROM:+0100
TZOFFSETTO:+0200
TZNAME:CEST
DTSTART:20260329T010000
END:DAYLIGHT
BEGIN:STANDARD
TZOFFSETFROM:+0200
TZOFFSETTO:+0100
TZNAME:CET
DTSTART:20261025T010000
END:STANDARD
BEGIN:DAYLIGHT
TZOFFSETFROM:+0100
TZOFFSETTO:+0200
TZNAME:CEST
DTSTART:20270328T010000
END:DAYLIGHT
BEGIN:STANDARD
TZOFFSETFROM:+0200
TZOFFSETTO:+0100
TZNAME:CET
DTSTART:20271031T010000
END:STANDARD
END:VTIMEZONE
BEGIN:VEVENT
DTSTART;TZID=Europe/Berlin:20260409T180000
DTEND;TZID=Europe/Berlin:20260409T200000
DTSTAMP:20260424T152810
CREATED:20260304T111822Z
LAST-MODIFIED:20260304T111822Z
UID:10002557-1775757600-1775764800@politische-bildung-sachsen.de
SUMMARY:Kontrovers vor Ort: Braucht die Demokratie noch Parteien?
DESCRIPTION:Parteien galten lange als unverzichtbare Stützpfeiler der Demokratie\, denn Ihnen kommt schon nach dem Grundgesetz eine zentrale Rolle in den Prozessen und Entscheidungen unserer Demokratie zu - doch ihr Ansehen schwindet. Zu elitär\, zu undurchsichtig\, zu machtfixiert? Viele Menschen fühlen sich von klassischen Parteien und ihren Strukturen nicht mehr vertreten. Aber: Was sind Parteien eigentlich? Welche Funktionen erfüllen sie - und wo liegen ihre Schwächen? In der Veranstaltung werfen wir einen Blick auf Geschichte\, Aufgaben und Kritik an Parteien. Wir fragen\, ob es Alternativen oder Reformen gibt und diskutieren neue Wege politischer Beteiligung. Ziel ist ein offener Austausch: Wie wollen wir Demokratie in Zukunft gestalten?\nVortrag und Diskussion mit Prof. Dr. Theres Matthieß\, Georg-August-Universität Göttingen
URL:https://politische-bildung-sachsen.de/veranstaltung/kontrovers-vor-ort-braucht-die-demokratie-noch-parteien/
LOCATION:Stadtbibliothek Freiberg\, Korngasse 14\, Freiberg\, 09599\, Deutschland
CATEGORIES:Vortrag/Infoveranstaltung
ATTACH;FMTTYPE=image/png:https://politische-bildung-sachsen.de/wp-content/uploads/2024/11/vhs_mittelsachsen_logo_web.png
ORGANIZER;CN="Volkshochschule Mittelsachsen":MAILTO:vhs@vhs-mittelsachsen.de
END:VEVENT
BEGIN:VEVENT
DTSTART;TZID=Europe/Berlin:20250902T180000
DTEND;TZID=Europe/Berlin:20250902T200000
DTSTAMP:20260424T152810
CREATED:20250707T080047Z
LAST-MODIFIED:20250707T080047Z
UID:10002283-1756836000-1756843200@politische-bildung-sachsen.de
SUMMARY:Kontrovers vor Ort: Ein Vermächtnis aus Haifa
DESCRIPTION:+++++++++Der Nahe Osten ist viel mehr als Feindseligkeiten\, Hass und Krieg. Es geschehen zahllose Geschichten\, die den Weg zum Frieden\, respektvollem Miteinanderleben und zur Hoffnung vorleben.\nMichael Touma erzählt in seiner Lesung von so einer\, ganz persönlichen\, Geschichte - der Geschichte seiner Eltern. 1949\, ein Jahr nach Gründung des Staates Israel\, begegnen sich die junge Jüdin Haya und der palästinensische Intellektuelle Emile in Haifa. Zwischen beiden entflammt eine leidenschaftliche Liebe\, die in ihrem Umfeld auf Ablehnung und Widerstand stößt.\nIn der Lesung verbindet Michael Touma Fotos\, Videos\, eigene literarische Texte mit Auszügen elterlicher Briefe und Texte. Er zeigt eine Reise im Leben zweier Menschen\, die die Hürden der Wirklichkeit durch Liebe zu überwinden versuchten. Touma erzählt eine lokale und gleichzeitig universelle Geschichte\, die Fragen nach Identität\, Heimat\, Sinn des Leides und des Kampfes weckt.\nEmile starb 1985\, Haya 2009. Sie liegen nebeneinander auf dem christlichen Friedhof in Haifa. Und so symbolisch und trotz der geteilten Wirklichkeit des Landes sind sie auch nach dem Tod beieinander.\n„ … und die Erinnerung\nan ihre Liebe\nleuchtet wie ein Vermächtnis.“ (Touma\, Michael: „Heimat“)\nZum Autor:\nMichael Touma\, Jahrgang 1956\, wurde acht Jahre nach Gründung des Staates Israel zu einer jüdischen Mutter und palästinensischem Vater in der Hafenstadt Haifa geboren. Er betätigt sich im Bereich der Malerei\, der Medienkunst und der Literatur.
URL:https://politische-bildung-sachsen.de/veranstaltung/kontrovers-vor-ort-ein-vermaechtnis-aus-haifa/
LOCATION:Stadtbibliothek Freiberg\, Korngasse 14\, Freiberg\, 09599\, Deutschland
CATEGORIES:Vortrag/Infoveranstaltung
ATTACH;FMTTYPE=image/png:https://politische-bildung-sachsen.de/wp-content/uploads/2024/11/vhs_mittelsachsen_logo_web.png
ORGANIZER;CN="Volkshochschule Mittelsachsen":MAILTO:vhs@vhs-mittelsachsen.de
END:VEVENT
END:VCALENDAR