BEGIN:VCALENDAR
VERSION:2.0
PRODID:-//Politische Bildung für Sachsen - ECPv6.15.20//NONSGML v1.0//EN
CALSCALE:GREGORIAN
METHOD:PUBLISH
X-WR-CALNAME:Politische Bildung für Sachsen
X-ORIGINAL-URL:https://politische-bildung-sachsen.de
X-WR-CALDESC:Veranstaltungen für Politische Bildung für Sachsen
REFRESH-INTERVAL;VALUE=DURATION:PT1H
X-Robots-Tag:noindex
X-PUBLISHED-TTL:PT1H
BEGIN:VTIMEZONE
TZID:Europe/Berlin
BEGIN:DAYLIGHT
TZOFFSETFROM:+0100
TZOFFSETTO:+0200
TZNAME:CEST
DTSTART:20240331T010000
END:DAYLIGHT
BEGIN:STANDARD
TZOFFSETFROM:+0200
TZOFFSETTO:+0100
TZNAME:CET
DTSTART:20241027T010000
END:STANDARD
BEGIN:DAYLIGHT
TZOFFSETFROM:+0100
TZOFFSETTO:+0200
TZNAME:CEST
DTSTART:20250330T010000
END:DAYLIGHT
BEGIN:STANDARD
TZOFFSETFROM:+0200
TZOFFSETTO:+0100
TZNAME:CET
DTSTART:20251026T010000
END:STANDARD
BEGIN:DAYLIGHT
TZOFFSETFROM:+0100
TZOFFSETTO:+0200
TZNAME:CEST
DTSTART:20260329T010000
END:DAYLIGHT
BEGIN:STANDARD
TZOFFSETFROM:+0200
TZOFFSETTO:+0100
TZNAME:CET
DTSTART:20261025T010000
END:STANDARD
BEGIN:DAYLIGHT
TZOFFSETFROM:+0100
TZOFFSETTO:+0200
TZNAME:CEST
DTSTART:20270328T010000
END:DAYLIGHT
BEGIN:STANDARD
TZOFFSETFROM:+0200
TZOFFSETTO:+0100
TZNAME:CET
DTSTART:20271031T010000
END:STANDARD
END:VTIMEZONE
BEGIN:VEVENT
DTSTART;TZID=Europe/Berlin:20260326T180000
DTEND;TZID=Europe/Berlin:20260326T200000
DTSTAMP:20260423T153645
CREATED:20260303T151953Z
LAST-MODIFIED:20260303T151953Z
UID:10002556-1774548000-1774555200@politische-bildung-sachsen.de
SUMMARY:Kontrovers vor Ort: Isoliert im Reich; Reichsbürgerbewegung in Sachsen
DESCRIPTION:Reichsbürger lehnen die Existenz der Bundesrepublik und deren Rechtssystem ab. Seit November 2016 ist die Reichsbürgerbewegung darum Beobachtungsobjekt des Verfassungsschutzes. Im Rahmen dieser Veranstaltung liefert der Dresdner Politikwissenschaftler Sebastian Trept einen Blick hinter die Kulissen einer Szene\, deren Mitglieder den deutschen Staat und dessen Regeln nicht anerkennen und stattdessen eigene Staaten ausrufen.\nFallbeschreibungen\, Mitgliederzahlen und Einsatzberichte lassen den Eindruck einer heterogenen Bewegung entstehen\, die einerseits besonders intensiv den Kontakt zu Verwaltungsmitarbeitern sucht und sich andererseits bewusst einer genauen Betrachtung entzieht. Neben der personellen\, historischen und ideologischen Entwicklung der Szene konzentriert sich Sebastian Trept vor allem auf die Fragen\, was Reichsbürger kennzeichnet und woher die Bewegung stammt. Er entschlüsselt Instrumente und Argumentationen von Reichsbürgern und gibt Hilfestellungen für den Umgang mit Mitgliedern der Szene.
URL:https://politische-bildung-sachsen.de/veranstaltung/kontrovers-vor-ort-isoliert-im-reich-reichsbuergerbewegung-in-sachsen/
LOCATION:Stadtbibliothek Hartha\, Markt 2 a\, Hartha\, 04746\, Germany
CATEGORIES:Vortrag/Infoveranstaltung
ATTACH;FMTTYPE=image/png:https://politische-bildung-sachsen.de/wp-content/uploads/2024/11/vhs_mittelsachsen_logo_web.png
ORGANIZER;CN="Volkshochschule Mittelsachsen":MAILTO:vhs@vhs-mittelsachsen.de
END:VEVENT
BEGIN:VEVENT
DTSTART;TZID=Europe/Berlin:20251016T180000
DTEND;TZID=Europe/Berlin:20251016T193000
DTSTAMP:20260423T153645
CREATED:20250707T070814Z
LAST-MODIFIED:20250707T070814Z
UID:10002281-1760637600-1760643000@politische-bildung-sachsen.de
SUMMARY:Geschichte und Bedeutung des sächsischen Dialekts
DESCRIPTION:"Was Sachsen sin von echtem Schlaach\,\ndie sin nich dod zu griechn.\nDrifft die ooch Gummer Daach fier Daach\,\nihr froher Mut wärd siechen." \nWie Lene Voigt die Sachsen charakterisiert\, zeigt gleichzeitig manche Eigenheiten der zu Unrecht belächelten sächsischen Sprache.\nErnsthaft wird dazu geforscht\, und u. a. werden folgende Fragen beantwortet:\nWie entstand dieser Dialekt? Welchen Einfluss nahm dieser Dialekt auf den Wortschatz und die Grammatik des sogenannten "Hochdeutsch"?
URL:https://politische-bildung-sachsen.de/veranstaltung/geschichte-und-bedeutung-des-saechsischen-dialekts/
LOCATION:Stadtbibliothek Hartha\, Markt 2 a\, Hartha\, 04746\, Germany
CATEGORIES:Vortrag/Infoveranstaltung
ATTACH;FMTTYPE=image/png:https://politische-bildung-sachsen.de/wp-content/uploads/2024/11/vhs_mittelsachsen_logo_web.png
ORGANIZER;CN="Volkshochschule Mittelsachsen":MAILTO:vhs@vhs-mittelsachsen.de
END:VEVENT
BEGIN:VEVENT
DTSTART;TZID=Europe/Berlin:20250904T180000
DTEND;TZID=Europe/Berlin:20250904T193000
DTSTAMP:20260423T153645
CREATED:20250707T070239Z
LAST-MODIFIED:20250707T070239Z
UID:10002277-1757008800-1757014200@politische-bildung-sachsen.de
SUMMARY:Der Mensch als Ballast - Die sächsische Heil- und Pflegeanstalt Hochweitzschen
DESCRIPTION:Die AG Geschichte des Döbelner Treibhaus e. V. stellt ihre Recherche-Ergebnisse zur Geschichte der mittelsächsischen Heil- und Pflegeanstalt Hochweitzschen im Nationalsozialismus und zur Auseinandersetzung mit den NS-Verbrechen vor Ort vor.\nEntstanden ist eine Broschüre mit einer historischen Einordnung der Klinik seit der Gründung im Jahr 1874\, einem Überblick zu den nationalsozialistischen „Euthanasie“-Verbrechen in Sachsen und einer ausführlichen Besprechung der Rolle und Funktion der Klinik Hochweitzschen bei Zwangssterilisationen\, im Rahmen der „Aktion T4“ und in der Phase der dezentralen „Euthanasie“. Auch die Verantwortungen und Handlungsspielräume des leitenden Personals finden dabei Beachtung. Einen besonderen Blick werfen die Autor*innen im Rahmen der Veröffentlichung auf Einzelschicksale von Jüdinnen und Juden sowie Zwangsarbeiter*innen\, die als Patient*innen in das Anstaltssystem gelangten. Ergänzt werden die Forschungsergebnisse durch historische Fotografien\, Dokumente\, Statistiken und Karten.
URL:https://politische-bildung-sachsen.de/veranstaltung/der-mensch-als-ballast-die-saechsische-heil-und-pflegeanstalt-hochweitzschen/
LOCATION:Stadtbibliothek Hartha\, Markt 2 a\, Hartha\, 04746\, Germany
CATEGORIES:Vortrag/Infoveranstaltung
ATTACH;FMTTYPE=image/png:https://politische-bildung-sachsen.de/wp-content/uploads/2024/11/vhs_mittelsachsen_logo_web.png
ORGANIZER;CN="Volkshochschule Mittelsachsen":MAILTO:vhs@vhs-mittelsachsen.de
END:VEVENT
END:VCALENDAR