BEGIN:VCALENDAR
VERSION:2.0
PRODID:-//Politische Bildung für Sachsen - ECPv6.15.20//NONSGML v1.0//EN
CALSCALE:GREGORIAN
METHOD:PUBLISH
X-ORIGINAL-URL:https://politische-bildung-sachsen.de
X-WR-CALDESC:Veranstaltungen für Politische Bildung für Sachsen
REFRESH-INTERVAL;VALUE=DURATION:PT1H
X-Robots-Tag:noindex
X-PUBLISHED-TTL:PT1H
BEGIN:VTIMEZONE
TZID:Europe/Berlin
BEGIN:DAYLIGHT
TZOFFSETFROM:+0100
TZOFFSETTO:+0200
TZNAME:CEST
DTSTART:20250330T010000
END:DAYLIGHT
BEGIN:STANDARD
TZOFFSETFROM:+0200
TZOFFSETTO:+0100
TZNAME:CET
DTSTART:20251026T010000
END:STANDARD
BEGIN:DAYLIGHT
TZOFFSETFROM:+0100
TZOFFSETTO:+0200
TZNAME:CEST
DTSTART:20260329T010000
END:DAYLIGHT
BEGIN:STANDARD
TZOFFSETFROM:+0200
TZOFFSETTO:+0100
TZNAME:CET
DTSTART:20261025T010000
END:STANDARD
BEGIN:DAYLIGHT
TZOFFSETFROM:+0100
TZOFFSETTO:+0200
TZNAME:CEST
DTSTART:20270328T010000
END:DAYLIGHT
BEGIN:STANDARD
TZOFFSETFROM:+0200
TZOFFSETTO:+0100
TZNAME:CET
DTSTART:20271031T010000
END:STANDARD
END:VTIMEZONE
BEGIN:VEVENT
DTSTART;TZID=Europe/Berlin:20260902T143000
DTEND;TZID=Europe/Berlin:20260902T170000
DTSTAMP:20260423T185047
CREATED:20251217T134442Z
LAST-MODIFIED:20251217T134442Z
UID:10002499-1788359400-1788368400@politische-bildung-sachsen.de
SUMMARY:BESUCH IM STASI-UNTERLAGEN-ARCHIV – Misstrauen und Machtmissbrauch
DESCRIPTION:Wir laden euch herzlich zu einem gemeinsamen Ausflug in das Stasi-Unterlagen-Archiv Dresden ein. Im Rahmen einer Führung erhaltet ihr spannende Einblicke in die Arbeitsweise des ehemaligen Ministeriums für Staatssicherheit (MfS) und in die heutige Aufarbeitung der DDR-Vergangenheit. Dabei könnt ihr alle Fragen stellen\, die euch zum Thema auf der Seele brennen und erfahrt viele spannende Fakten. Wusstest ihr schon\, dass alle Regal-Meter mit Stasi-Akten des Archivs zusammengenommen eine Wanderung von 8\,2 Kilometer ergeben würden? Wie viele Briefe von den Stasi-Mitarbeiter:innen\, die verdeckt bei der Post arbeiteten\, geöffnet und gelesen wurden? Und welche Inhalte besonders gern aus den Westpaketen entnommen wurden? \n\nWir treffen uns 14:30 Uhr vor dem Eingang der Behörde\, um vor der Führung noch ein Gespräch über Erwartungen und Erfahrungen zu führen. Dieses Angebot ist freiwillig.
URL:https://politische-bildung-sachsen.de/veranstaltung/besuch-im-stasi-unterlagen-archiv-misstrauen-und-machtmissbrauch-2/
LOCATION:Stasi-Unterlagen-Archiv Dresden\, Riesaer Str. 7 / Seiteneingang D\, Dresden\, 01129
CATEGORIES:Exkursion
ATTACH;FMTTYPE=image/jpeg:https://politische-bildung-sachsen.de/wp-content/uploads/2023/07/HWB.jpg
ORGANIZER;CN="Herbert-Wehner-Bildungswerk e.V.":MAILTO:info@wehnerwerk.de
END:VEVENT
END:VCALENDAR