BEGIN:VCALENDAR
VERSION:2.0
PRODID:-//Politische Bildung für Sachsen - ECPv6.15.20//NONSGML v1.0//EN
CALSCALE:GREGORIAN
METHOD:PUBLISH
X-ORIGINAL-URL:https://politische-bildung-sachsen.de
X-WR-CALDESC:Veranstaltungen für Politische Bildung für Sachsen
REFRESH-INTERVAL;VALUE=DURATION:PT1H
X-Robots-Tag:noindex
X-PUBLISHED-TTL:PT1H
BEGIN:VTIMEZONE
TZID:Europe/Berlin
BEGIN:DAYLIGHT
TZOFFSETFROM:+0100
TZOFFSETTO:+0200
TZNAME:CEST
DTSTART:20240331T010000
END:DAYLIGHT
BEGIN:STANDARD
TZOFFSETFROM:+0200
TZOFFSETTO:+0100
TZNAME:CET
DTSTART:20241027T010000
END:STANDARD
BEGIN:DAYLIGHT
TZOFFSETFROM:+0100
TZOFFSETTO:+0200
TZNAME:CEST
DTSTART:20250330T010000
END:DAYLIGHT
BEGIN:STANDARD
TZOFFSETFROM:+0200
TZOFFSETTO:+0100
TZNAME:CET
DTSTART:20251026T010000
END:STANDARD
BEGIN:DAYLIGHT
TZOFFSETFROM:+0100
TZOFFSETTO:+0200
TZNAME:CEST
DTSTART:20260329T010000
END:DAYLIGHT
BEGIN:STANDARD
TZOFFSETFROM:+0200
TZOFFSETTO:+0100
TZNAME:CET
DTSTART:20261025T010000
END:STANDARD
END:VTIMEZONE
BEGIN:VEVENT
DTSTART;TZID=Europe/Berlin:20250930T160000
DTEND;TZID=Europe/Berlin:20250930T180000
DTSTAMP:20260424T103116
CREATED:20250930T080435Z
LAST-MODIFIED:20250930T080435Z
UID:10002412-1759248000-1759255200@politische-bildung-sachsen.de
SUMMARY:Ossis\, Wessis und Gerechtigkeit
DESCRIPTION:Mehr als 35 Jahre nach der Friedlichen Revolution sind die Unterschiede zwischen Ost- und Westdeutschland weiterhin ein zentrales Thema. Die Freude über die Deutsche Einheit ist vielerorts emotionalen Debatten über Gleichheit und Lebensleistungen gewichen. Nachgeborene wachsen nicht selten mit Vorurteilen auf. Ilko-Sascha Kowalczuk\, Historiker aus (Ost)-Berlin kämpft hartnäckig und meinungsfreudig gegen Ostalgie und Verklärung. Martin Dulig sieht sich in seiner politischen Laufbahn der Angleichung der Lebensverhältnisse in Ost und West verpflichtet. Sie beide diskutieren an diesem Nachmittag über Ossis\, Wessis und Gerechtigkeit. \nModeration: Hanka Kliese \nEine Kooperation zwischen Friedrich-Ebert-Stiftung Sachsen\, Kulturforum der Sozialdemokratie Sachsen e.V. und dem Weltecho. \nDer Eintritt ist frei. Um Anmeldung wird gebeten.
URL:https://politische-bildung-sachsen.de/veranstaltung/ossis-wessis-und-gerechtigkeit/
LOCATION:Weltecho\, Annaberger Straße 24\, Chemnitz\, 09111
CATEGORIES:Diskussion
ATTACH;FMTTYPE=image/png:https://politische-bildung-sachsen.de/wp-content/uploads/2024/12/Logo_fes_NEU.png
ORGANIZER;CN="Friedrich-Ebert-Stiftung Sachsen":MAILTO:sachsen@fes.de
END:VEVENT
END:VCALENDAR